BEGIN:VCALENDAR
VERSION:2.0
PRODID:-//Southeastern Zonal Forum - ECPv6.14.2//NONSGML v1.0//EN
CALSCALE:GREGORIAN
METHOD:PUBLISH
X-WR-CALNAME:Southeastern Zonal Forum
X-ORIGINAL-URL:https://sezf.org
X-WR-CALDESC:Events for Southeastern Zonal Forum
REFRESH-INTERVAL;VALUE=DURATION:PT1H
X-Robots-Tag:noindex
X-PUBLISHED-TTL:PT1H
BEGIN:VTIMEZONE
TZID:America/New_York
BEGIN:DAYLIGHT
TZOFFSETFROM:-0500
TZOFFSETTO:-0400
TZNAME:EDT
DTSTART:20270314T070000
END:DAYLIGHT
BEGIN:STANDARD
TZOFFSETFROM:-0400
TZOFFSETTO:-0500
TZNAME:EST
DTSTART:20271107T060000
END:STANDARD
BEGIN:DAYLIGHT
TZOFFSETFROM:-0500
TZOFFSETTO:-0400
TZNAME:EDT
DTSTART:20280312T070000
END:DAYLIGHT
BEGIN:STANDARD
TZOFFSETFROM:-0400
TZOFFSETTO:-0500
TZNAME:EST
DTSTART:20281105T060000
END:STANDARD
END:VTIMEZONE
BEGIN:VEVENT
DTSTART;TZID=America/New_York:20270623T190000
DTEND;TZID=America/New_York:20270623T200000
DTSTAMP:20260424T234225
CREATED:20240427T231117Z
LAST-MODIFIED:20240427T231117Z
UID:10000038-1813777200-1813780800@sezf.org
SUMMARY:H&I Task Force
DESCRIPTION:Zoom Code 862 484 930
URL:https://sezf.org/event/hi-task-force/2027-06-23/
CATEGORIES:H&I Task Force
END:VEVENT
BEGIN:VEVENT
DTSTART;TZID=America/New_York:20270623T200000
DTEND;TZID=America/New_York:20270623T210000
DTSTAMP:20260424T234225
CREATED:20240427T232935Z
LAST-MODIFIED:20241128T020252Z
UID:10000099-1813780800-1813784400@sezf.org
SUMMARY:PR Task Force
DESCRIPTION:The main objectives of the SEZF PR Task Force are to inform the public about Narcotics Anonymous and train volunteers within our member regions. Any NA member with a desire to serve our task force is welcome to volunteer\, just join our PR Task Force virtual meeting. If you have an idea for a project\, please share it with our team. \nTopic: PR Task Force\nTime: 08:00 PM Eastern Time (US and Canada)\nEvery month on the fourth Wednesday \nJoin Zoom Meeting\nhttps://us02web.zoom.us/j/898667927 \nMeeting ID: 898 667 927
URL:https://sezf.org/event/pr-task-force/2027-06-23/
CATEGORIES:Public Relations Task Force
END:VEVENT
BEGIN:VEVENT
DTSTART;TZID=America/New_York:20270728T184500
DTEND;TZID=America/New_York:20270728T194500
DTSTAMP:20260424T234225
CREATED:20260425T014907Z
LAST-MODIFIED:20260425T015407Z
UID:10000343-1816800300-1816803900@sezf.org
SUMMARY:Fellowship Development Team
DESCRIPTION:Purpose: The SEZF Fellowship Development Team is here to build effective relationships with our members within our Zone and provide Fellowship services for our membership as needed. \nOur mission: To support the regions of the SEZF with mentorship\, training\, and digital support within the Zone and underserved communities. \nTopic: Symposium Workgroup \nJoin Zoom Meeting\nhttps://us02web.zoom.us/j/84827302538?pwd=53XjxFXbU84sbaJNElpp5rGHfecs3w.1 \nMeeting ID: 848 2730 2538\nPasscode: sezffd
URL:https://sezf.org/event/fellowship-development-team-2-2/2027-07-28/
END:VEVENT
BEGIN:VEVENT
DTSTART;TZID=America/New_York:20270728T190000
DTEND;TZID=America/New_York:20270728T200000
DTSTAMP:20260424T234225
CREATED:20240427T231117Z
LAST-MODIFIED:20240427T231117Z
UID:10000039-1816801200-1816804800@sezf.org
SUMMARY:H&I Task Force
DESCRIPTION:Zoom Code 862 484 930
URL:https://sezf.org/event/hi-task-force/2027-07-28/
CATEGORIES:H&I Task Force
END:VEVENT
BEGIN:VEVENT
DTSTART;TZID=America/New_York:20270728T200000
DTEND;TZID=America/New_York:20270728T210000
DTSTAMP:20260424T234225
CREATED:20240427T232935Z
LAST-MODIFIED:20241128T020252Z
UID:10000100-1816804800-1816808400@sezf.org
SUMMARY:PR Task Force
DESCRIPTION:The main objectives of the SEZF PR Task Force are to inform the public about Narcotics Anonymous and train volunteers within our member regions. Any NA member with a desire to serve our task force is welcome to volunteer\, just join our PR Task Force virtual meeting. If you have an idea for a project\, please share it with our team. \nTopic: PR Task Force\nTime: 08:00 PM Eastern Time (US and Canada)\nEvery month on the fourth Wednesday \nJoin Zoom Meeting\nhttps://us02web.zoom.us/j/898667927 \nMeeting ID: 898 667 927
URL:https://sezf.org/event/pr-task-force/2027-07-28/
CATEGORIES:Public Relations Task Force
END:VEVENT
BEGIN:VEVENT
DTSTART;TZID=America/New_York:20270825T184500
DTEND;TZID=America/New_York:20270825T194500
DTSTAMP:20260424T234225
CREATED:20260425T014907Z
LAST-MODIFIED:20260425T015407Z
UID:10000344-1819219500-1819223100@sezf.org
SUMMARY:Fellowship Development Team
DESCRIPTION:Purpose: The SEZF Fellowship Development Team is here to build effective relationships with our members within our Zone and provide Fellowship services for our membership as needed. \nOur mission: To support the regions of the SEZF with mentorship\, training\, and digital support within the Zone and underserved communities. \nTopic: Symposium Workgroup \nJoin Zoom Meeting\nhttps://us02web.zoom.us/j/84827302538?pwd=53XjxFXbU84sbaJNElpp5rGHfecs3w.1 \nMeeting ID: 848 2730 2538\nPasscode: sezffd
URL:https://sezf.org/event/fellowship-development-team-2-2/2027-08-25/
END:VEVENT
BEGIN:VEVENT
DTSTART;TZID=America/New_York:20270825T190000
DTEND;TZID=America/New_York:20270825T200000
DTSTAMP:20260424T234225
CREATED:20240427T231117Z
LAST-MODIFIED:20240427T231117Z
UID:10000040-1819220400-1819224000@sezf.org
SUMMARY:H&I Task Force
DESCRIPTION:Zoom Code 862 484 930
URL:https://sezf.org/event/hi-task-force/2027-08-25/
CATEGORIES:H&I Task Force
END:VEVENT
BEGIN:VEVENT
DTSTART;TZID=America/New_York:20270825T200000
DTEND;TZID=America/New_York:20270825T210000
DTSTAMP:20260424T234225
CREATED:20240427T232935Z
LAST-MODIFIED:20241128T020252Z
UID:10000101-1819224000-1819227600@sezf.org
SUMMARY:PR Task Force
DESCRIPTION:The main objectives of the SEZF PR Task Force are to inform the public about Narcotics Anonymous and train volunteers within our member regions. Any NA member with a desire to serve our task force is welcome to volunteer\, just join our PR Task Force virtual meeting. If you have an idea for a project\, please share it with our team. \nTopic: PR Task Force\nTime: 08:00 PM Eastern Time (US and Canada)\nEvery month on the fourth Wednesday \nJoin Zoom Meeting\nhttps://us02web.zoom.us/j/898667927 \nMeeting ID: 898 667 927
URL:https://sezf.org/event/pr-task-force/2027-08-25/
CATEGORIES:Public Relations Task Force
END:VEVENT
BEGIN:VEVENT
DTSTART;TZID=America/New_York:20270922T184500
DTEND;TZID=America/New_York:20270922T194500
DTSTAMP:20260424T234225
CREATED:20260425T014907Z
LAST-MODIFIED:20260425T015407Z
UID:10000345-1821638700-1821642300@sezf.org
SUMMARY:Fellowship Development Team
DESCRIPTION:Purpose: The SEZF Fellowship Development Team is here to build effective relationships with our members within our Zone and provide Fellowship services for our membership as needed. \nOur mission: To support the regions of the SEZF with mentorship\, training\, and digital support within the Zone and underserved communities. \nTopic: Symposium Workgroup \nJoin Zoom Meeting\nhttps://us02web.zoom.us/j/84827302538?pwd=53XjxFXbU84sbaJNElpp5rGHfecs3w.1 \nMeeting ID: 848 2730 2538\nPasscode: sezffd
URL:https://sezf.org/event/fellowship-development-team-2-2/2027-09-22/
END:VEVENT
BEGIN:VEVENT
DTSTART;TZID=America/New_York:20270922T190000
DTEND;TZID=America/New_York:20270922T200000
DTSTAMP:20260424T234225
CREATED:20240427T231117Z
LAST-MODIFIED:20240427T231117Z
UID:10000041-1821639600-1821643200@sezf.org
SUMMARY:H&I Task Force
DESCRIPTION:Zoom Code 862 484 930
URL:https://sezf.org/event/hi-task-force/2027-09-22/
CATEGORIES:H&I Task Force
END:VEVENT
BEGIN:VEVENT
DTSTART;TZID=America/New_York:20270922T200000
DTEND;TZID=America/New_York:20270922T210000
DTSTAMP:20260424T234225
CREATED:20240427T232935Z
LAST-MODIFIED:20241128T020252Z
UID:10000102-1821643200-1821646800@sezf.org
SUMMARY:PR Task Force
DESCRIPTION:The main objectives of the SEZF PR Task Force are to inform the public about Narcotics Anonymous and train volunteers within our member regions. Any NA member with a desire to serve our task force is welcome to volunteer\, just join our PR Task Force virtual meeting. If you have an idea for a project\, please share it with our team. \nTopic: PR Task Force\nTime: 08:00 PM Eastern Time (US and Canada)\nEvery month on the fourth Wednesday \nJoin Zoom Meeting\nhttps://us02web.zoom.us/j/898667927 \nMeeting ID: 898 667 927
URL:https://sezf.org/event/pr-task-force/2027-09-22/
CATEGORIES:Public Relations Task Force
END:VEVENT
BEGIN:VEVENT
DTSTART;TZID=America/New_York:20271027T184500
DTEND;TZID=America/New_York:20271027T194500
DTSTAMP:20260424T234225
CREATED:20260425T014907Z
LAST-MODIFIED:20260425T015407Z
UID:10000346-1824662700-1824666300@sezf.org
SUMMARY:Fellowship Development Team
DESCRIPTION:Purpose: The SEZF Fellowship Development Team is here to build effective relationships with our members within our Zone and provide Fellowship services for our membership as needed. \nOur mission: To support the regions of the SEZF with mentorship\, training\, and digital support within the Zone and underserved communities. \nTopic: Symposium Workgroup \nJoin Zoom Meeting\nhttps://us02web.zoom.us/j/84827302538?pwd=53XjxFXbU84sbaJNElpp5rGHfecs3w.1 \nMeeting ID: 848 2730 2538\nPasscode: sezffd
URL:https://sezf.org/event/fellowship-development-team-2-2/2027-10-27/
END:VEVENT
BEGIN:VEVENT
DTSTART;TZID=America/New_York:20271027T190000
DTEND;TZID=America/New_York:20271027T200000
DTSTAMP:20260424T234225
CREATED:20240427T231117Z
LAST-MODIFIED:20240427T231117Z
UID:10000042-1824663600-1824667200@sezf.org
SUMMARY:H&I Task Force
DESCRIPTION:Zoom Code 862 484 930
URL:https://sezf.org/event/hi-task-force/2027-10-27/
CATEGORIES:H&I Task Force
END:VEVENT
BEGIN:VEVENT
DTSTART;TZID=America/New_York:20271027T200000
DTEND;TZID=America/New_York:20271027T210000
DTSTAMP:20260424T234225
CREATED:20240427T232935Z
LAST-MODIFIED:20241128T020252Z
UID:10000103-1824667200-1824670800@sezf.org
SUMMARY:PR Task Force
DESCRIPTION:The main objectives of the SEZF PR Task Force are to inform the public about Narcotics Anonymous and train volunteers within our member regions. Any NA member with a desire to serve our task force is welcome to volunteer\, just join our PR Task Force virtual meeting. If you have an idea for a project\, please share it with our team. \nTopic: PR Task Force\nTime: 08:00 PM Eastern Time (US and Canada)\nEvery month on the fourth Wednesday \nJoin Zoom Meeting\nhttps://us02web.zoom.us/j/898667927 \nMeeting ID: 898 667 927
URL:https://sezf.org/event/pr-task-force/2027-10-27/
CATEGORIES:Public Relations Task Force
END:VEVENT
BEGIN:VEVENT
DTSTART;TZID=America/New_York:20271124T184500
DTEND;TZID=America/New_York:20271124T194500
DTSTAMP:20260424T234225
CREATED:20260425T014907Z
LAST-MODIFIED:20260425T015407Z
UID:10000347-1827081900-1827085500@sezf.org
SUMMARY:Fellowship Development Team
DESCRIPTION:Purpose: The SEZF Fellowship Development Team is here to build effective relationships with our members within our Zone and provide Fellowship services for our membership as needed. \nOur mission: To support the regions of the SEZF with mentorship\, training\, and digital support within the Zone and underserved communities. \nTopic: Symposium Workgroup \nJoin Zoom Meeting\nhttps://us02web.zoom.us/j/84827302538?pwd=53XjxFXbU84sbaJNElpp5rGHfecs3w.1 \nMeeting ID: 848 2730 2538\nPasscode: sezffd
URL:https://sezf.org/event/fellowship-development-team-2-2/2027-11-24/
END:VEVENT
BEGIN:VEVENT
DTSTART;TZID=America/New_York:20271124T190000
DTEND;TZID=America/New_York:20271124T200000
DTSTAMP:20260424T234225
CREATED:20240427T231117Z
LAST-MODIFIED:20240427T231117Z
UID:10000043-1827082800-1827086400@sezf.org
SUMMARY:H&I Task Force
DESCRIPTION:Zoom Code 862 484 930
URL:https://sezf.org/event/hi-task-force/2027-11-24/
CATEGORIES:H&I Task Force
END:VEVENT
BEGIN:VEVENT
DTSTART;TZID=America/New_York:20271124T200000
DTEND;TZID=America/New_York:20271124T210000
DTSTAMP:20260424T234225
CREATED:20240427T232935Z
LAST-MODIFIED:20241128T020252Z
UID:10000104-1827086400-1827090000@sezf.org
SUMMARY:PR Task Force
DESCRIPTION:The main objectives of the SEZF PR Task Force are to inform the public about Narcotics Anonymous and train volunteers within our member regions. Any NA member with a desire to serve our task force is welcome to volunteer\, just join our PR Task Force virtual meeting. If you have an idea for a project\, please share it with our team. \nTopic: PR Task Force\nTime: 08:00 PM Eastern Time (US and Canada)\nEvery month on the fourth Wednesday \nJoin Zoom Meeting\nhttps://us02web.zoom.us/j/898667927 \nMeeting ID: 898 667 927
URL:https://sezf.org/event/pr-task-force/2027-11-24/
CATEGORIES:Public Relations Task Force
END:VEVENT
BEGIN:VEVENT
DTSTART;TZID=America/New_York:20271222T184500
DTEND;TZID=America/New_York:20271222T194500
DTSTAMP:20260424T234225
CREATED:20260425T014907Z
LAST-MODIFIED:20260425T015407Z
UID:10000348-1829501100-1829504700@sezf.org
SUMMARY:Fellowship Development Team
DESCRIPTION:Purpose: The SEZF Fellowship Development Team is here to build effective relationships with our members within our Zone and provide Fellowship services for our membership as needed. \nOur mission: To support the regions of the SEZF with mentorship\, training\, and digital support within the Zone and underserved communities. \nTopic: Symposium Workgroup \nJoin Zoom Meeting\nhttps://us02web.zoom.us/j/84827302538?pwd=53XjxFXbU84sbaJNElpp5rGHfecs3w.1 \nMeeting ID: 848 2730 2538\nPasscode: sezffd
URL:https://sezf.org/event/fellowship-development-team-2-2/2027-12-22/
END:VEVENT
BEGIN:VEVENT
DTSTART;TZID=America/New_York:20271222T190000
DTEND;TZID=America/New_York:20271222T200000
DTSTAMP:20260424T234225
CREATED:20240427T231117Z
LAST-MODIFIED:20240427T231117Z
UID:10000044-1829502000-1829505600@sezf.org
SUMMARY:H&I Task Force
DESCRIPTION:Zoom Code 862 484 930
URL:https://sezf.org/event/hi-task-force/2027-12-22/
CATEGORIES:H&I Task Force
END:VEVENT
BEGIN:VEVENT
DTSTART;TZID=America/New_York:20271222T200000
DTEND;TZID=America/New_York:20271222T210000
DTSTAMP:20260424T234225
CREATED:20240427T232935Z
LAST-MODIFIED:20241128T020252Z
UID:10000105-1829505600-1829509200@sezf.org
SUMMARY:PR Task Force
DESCRIPTION:The main objectives of the SEZF PR Task Force are to inform the public about Narcotics Anonymous and train volunteers within our member regions. Any NA member with a desire to serve our task force is welcome to volunteer\, just join our PR Task Force virtual meeting. If you have an idea for a project\, please share it with our team. \nTopic: PR Task Force\nTime: 08:00 PM Eastern Time (US and Canada)\nEvery month on the fourth Wednesday \nJoin Zoom Meeting\nhttps://us02web.zoom.us/j/898667927 \nMeeting ID: 898 667 927
URL:https://sezf.org/event/pr-task-force/2027-12-22/
CATEGORIES:Public Relations Task Force
END:VEVENT
BEGIN:VEVENT
DTSTART;TZID=America/New_York:20280126T184500
DTEND;TZID=America/New_York:20280126T194500
DTSTAMP:20260424T234225
CREATED:20260425T014907Z
LAST-MODIFIED:20260425T015407Z
UID:10000349-1832525100-1832528700@sezf.org
SUMMARY:Fellowship Development Team
DESCRIPTION:Purpose: The SEZF Fellowship Development Team is here to build effective relationships with our members within our Zone and provide Fellowship services for our membership as needed. \nOur mission: To support the regions of the SEZF with mentorship\, training\, and digital support within the Zone and underserved communities. \nTopic: Symposium Workgroup \nJoin Zoom Meeting\nhttps://us02web.zoom.us/j/84827302538?pwd=53XjxFXbU84sbaJNElpp5rGHfecs3w.1 \nMeeting ID: 848 2730 2538\nPasscode: sezffd
URL:https://sezf.org/event/fellowship-development-team-2-2/2028-01-26/
END:VEVENT
BEGIN:VEVENT
DTSTART;TZID=America/New_York:20280126T190000
DTEND;TZID=America/New_York:20280126T200000
DTSTAMP:20260424T234225
CREATED:20240427T231117Z
LAST-MODIFIED:20240427T231117Z
UID:10000045-1832526000-1832529600@sezf.org
SUMMARY:H&I Task Force
DESCRIPTION:Zoom Code 862 484 930
URL:https://sezf.org/event/hi-task-force/2028-01-26/
CATEGORIES:H&I Task Force
END:VEVENT
BEGIN:VEVENT
DTSTART;TZID=America/New_York:20280126T200000
DTEND;TZID=America/New_York:20280126T210000
DTSTAMP:20260424T234225
CREATED:20240427T232935Z
LAST-MODIFIED:20241128T020252Z
UID:10000106-1832529600-1832533200@sezf.org
SUMMARY:PR Task Force
DESCRIPTION:The main objectives of the SEZF PR Task Force are to inform the public about Narcotics Anonymous and train volunteers within our member regions. Any NA member with a desire to serve our task force is welcome to volunteer\, just join our PR Task Force virtual meeting. If you have an idea for a project\, please share it with our team. \nTopic: PR Task Force\nTime: 08:00 PM Eastern Time (US and Canada)\nEvery month on the fourth Wednesday \nJoin Zoom Meeting\nhttps://us02web.zoom.us/j/898667927 \nMeeting ID: 898 667 927
URL:https://sezf.org/event/pr-task-force/2028-01-26/
CATEGORIES:Public Relations Task Force
END:VEVENT
BEGIN:VEVENT
DTSTART;TZID=America/New_York:20280223T184500
DTEND;TZID=America/New_York:20280223T194500
DTSTAMP:20260424T234225
CREATED:20260425T014907Z
LAST-MODIFIED:20260425T015407Z
UID:10000350-1834944300-1834947900@sezf.org
SUMMARY:Fellowship Development Team
DESCRIPTION:Purpose: The SEZF Fellowship Development Team is here to build effective relationships with our members within our Zone and provide Fellowship services for our membership as needed. \nOur mission: To support the regions of the SEZF with mentorship\, training\, and digital support within the Zone and underserved communities. \nTopic: Symposium Workgroup \nJoin Zoom Meeting\nhttps://us02web.zoom.us/j/84827302538?pwd=53XjxFXbU84sbaJNElpp5rGHfecs3w.1 \nMeeting ID: 848 2730 2538\nPasscode: sezffd
URL:https://sezf.org/event/fellowship-development-team-2-2/2028-02-23/
END:VEVENT
BEGIN:VEVENT
DTSTART;TZID=America/New_York:20280223T190000
DTEND;TZID=America/New_York:20280223T200000
DTSTAMP:20260424T234225
CREATED:20240427T231117Z
LAST-MODIFIED:20240427T231117Z
UID:10000046-1834945200-1834948800@sezf.org
SUMMARY:H&I Task Force
DESCRIPTION:Zoom Code 862 484 930
URL:https://sezf.org/event/hi-task-force/2028-02-23/
CATEGORIES:H&I Task Force
END:VEVENT
BEGIN:VEVENT
DTSTART;TZID=America/New_York:20280223T200000
DTEND;TZID=America/New_York:20280223T210000
DTSTAMP:20260424T234225
CREATED:20240427T232935Z
LAST-MODIFIED:20241128T020252Z
UID:10000107-1834948800-1834952400@sezf.org
SUMMARY:PR Task Force
DESCRIPTION:The main objectives of the SEZF PR Task Force are to inform the public about Narcotics Anonymous and train volunteers within our member regions. Any NA member with a desire to serve our task force is welcome to volunteer\, just join our PR Task Force virtual meeting. If you have an idea for a project\, please share it with our team. \nTopic: PR Task Force\nTime: 08:00 PM Eastern Time (US and Canada)\nEvery month on the fourth Wednesday \nJoin Zoom Meeting\nhttps://us02web.zoom.us/j/898667927 \nMeeting ID: 898 667 927
URL:https://sezf.org/event/pr-task-force/2028-02-23/
CATEGORIES:Public Relations Task Force
END:VEVENT
BEGIN:VEVENT
DTSTART;TZID=America/New_York:20280322T184500
DTEND;TZID=America/New_York:20280322T194500
DTSTAMP:20260424T234225
CREATED:20260425T014907Z
LAST-MODIFIED:20260425T015407Z
UID:10000351-1837363500-1837367100@sezf.org
SUMMARY:Fellowship Development Team
DESCRIPTION:Purpose: The SEZF Fellowship Development Team is here to build effective relationships with our members within our Zone and provide Fellowship services for our membership as needed. \nOur mission: To support the regions of the SEZF with mentorship\, training\, and digital support within the Zone and underserved communities. \nTopic: Symposium Workgroup \nJoin Zoom Meeting\nhttps://us02web.zoom.us/j/84827302538?pwd=53XjxFXbU84sbaJNElpp5rGHfecs3w.1 \nMeeting ID: 848 2730 2538\nPasscode: sezffd
URL:https://sezf.org/event/fellowship-development-team-2-2/2028-03-22/
END:VEVENT
BEGIN:VEVENT
DTSTART;TZID=America/New_York:20280322T190000
DTEND;TZID=America/New_York:20280322T200000
DTSTAMP:20260424T234225
CREATED:20240427T231117Z
LAST-MODIFIED:20240427T231117Z
UID:10000047-1837364400-1837368000@sezf.org
SUMMARY:H&I Task Force
DESCRIPTION:Zoom Code 862 484 930
URL:https://sezf.org/event/hi-task-force/2028-03-22/
CATEGORIES:H&I Task Force
END:VEVENT
BEGIN:VEVENT
DTSTART;TZID=America/New_York:20280322T200000
DTEND;TZID=America/New_York:20280322T210000
DTSTAMP:20260424T234225
CREATED:20240427T232935Z
LAST-MODIFIED:20241128T020252Z
UID:10000108-1837368000-1837371600@sezf.org
SUMMARY:PR Task Force
DESCRIPTION:The main objectives of the SEZF PR Task Force are to inform the public about Narcotics Anonymous and train volunteers within our member regions. Any NA member with a desire to serve our task force is welcome to volunteer\, just join our PR Task Force virtual meeting. If you have an idea for a project\, please share it with our team. \nTopic: PR Task Force\nTime: 08:00 PM Eastern Time (US and Canada)\nEvery month on the fourth Wednesday \nJoin Zoom Meeting\nhttps://us02web.zoom.us/j/898667927 \nMeeting ID: 898 667 927
URL:https://sezf.org/event/pr-task-force/2028-03-22/
CATEGORIES:Public Relations Task Force
END:VEVENT
BEGIN:VEVENT
DTSTART;TZID=America/New_York:20280426T184500
DTEND;TZID=America/New_York:20280426T194500
DTSTAMP:20260424T234225
CREATED:20260425T014907Z
LAST-MODIFIED:20260425T015407Z
UID:10000352-1840387500-1840391100@sezf.org
SUMMARY:Fellowship Development Team
DESCRIPTION:Purpose: The SEZF Fellowship Development Team is here to build effective relationships with our members within our Zone and provide Fellowship services for our membership as needed. \nOur mission: To support the regions of the SEZF with mentorship\, training\, and digital support within the Zone and underserved communities. \nTopic: Symposium Workgroup \nJoin Zoom Meeting\nhttps://us02web.zoom.us/j/84827302538?pwd=53XjxFXbU84sbaJNElpp5rGHfecs3w.1 \nMeeting ID: 848 2730 2538\nPasscode: sezffd
URL:https://sezf.org/event/fellowship-development-team-2-2/2028-04-26/
END:VEVENT
END:VCALENDAR