BEGIN:VCALENDAR
VERSION:2.0
PRODID:-//Southeastern Zonal Forum - ECPv6.14.2//NONSGML v1.0//EN
CALSCALE:GREGORIAN
METHOD:PUBLISH
X-ORIGINAL-URL:https://sezf.org
X-WR-CALDESC:Events for Southeastern Zonal Forum
REFRESH-INTERVAL;VALUE=DURATION:PT1H
X-Robots-Tag:noindex
X-PUBLISHED-TTL:PT1H
BEGIN:VTIMEZONE
TZID:America/New_York
BEGIN:DAYLIGHT
TZOFFSETFROM:-0500
TZOFFSETTO:-0400
TZNAME:EDT
DTSTART:20280312T070000
END:DAYLIGHT
BEGIN:STANDARD
TZOFFSETFROM:-0400
TZOFFSETTO:-0500
TZNAME:EST
DTSTART:20281105T060000
END:STANDARD
BEGIN:DAYLIGHT
TZOFFSETFROM:-0500
TZOFFSETTO:-0400
TZNAME:EDT
DTSTART:20290311T070000
END:DAYLIGHT
BEGIN:STANDARD
TZOFFSETFROM:-0400
TZOFFSETTO:-0500
TZNAME:EST
DTSTART:20291104T060000
END:STANDARD
END:VTIMEZONE
BEGIN:VEVENT
DTSTART;TZID=America/New_York:20280628T190000
DTEND;TZID=America/New_York:20280628T200000
DTSTAMP:20260424T224248
CREATED:20240427T231117Z
LAST-MODIFIED:20240427T231117Z
UID:10000050-1845831600-1845835200@sezf.org
SUMMARY:H&I Task Force
DESCRIPTION:Zoom Code 862 484 930
URL:https://sezf.org/event/hi-task-force/2028-06-28/
CATEGORIES:H&I Task Force
END:VEVENT
BEGIN:VEVENT
DTSTART;TZID=America/New_York:20280628T200000
DTEND;TZID=America/New_York:20280628T210000
DTSTAMP:20260424T224248
CREATED:20240427T232935Z
LAST-MODIFIED:20241128T020252Z
UID:10000111-1845835200-1845838800@sezf.org
SUMMARY:PR Task Force
DESCRIPTION:The main objectives of the SEZF PR Task Force are to inform the public about Narcotics Anonymous and train volunteers within our member regions. Any NA member with a desire to serve our task force is welcome to volunteer\, just join our PR Task Force virtual meeting. If you have an idea for a project\, please share it with our team. \nTopic: PR Task Force\nTime: 08:00 PM Eastern Time (US and Canada)\nEvery month on the fourth Wednesday \nJoin Zoom Meeting\nhttps://us02web.zoom.us/j/898667927 \nMeeting ID: 898 667 927
URL:https://sezf.org/event/pr-task-force/2028-06-28/
CATEGORIES:Public Relations Task Force
END:VEVENT
BEGIN:VEVENT
DTSTART;TZID=America/New_York:20280726T184500
DTEND;TZID=America/New_York:20280726T194500
DTSTAMP:20260424T224248
CREATED:20260425T014907Z
LAST-MODIFIED:20260425T015407Z
UID:10000355-1848249900-1848253500@sezf.org
SUMMARY:Fellowship Development Team
DESCRIPTION:Purpose: The SEZF Fellowship Development Team is here to build effective relationships with our members within our Zone and provide Fellowship services for our membership as needed. \nOur mission: To support the regions of the SEZF with mentorship\, training\, and digital support within the Zone and underserved communities. \nTopic: Symposium Workgroup \nJoin Zoom Meeting\nhttps://us02web.zoom.us/j/84827302538?pwd=53XjxFXbU84sbaJNElpp5rGHfecs3w.1 \nMeeting ID: 848 2730 2538\nPasscode: sezffd
URL:https://sezf.org/event/fellowship-development-team-2-2/2028-07-26/
END:VEVENT
BEGIN:VEVENT
DTSTART;TZID=America/New_York:20280726T190000
DTEND;TZID=America/New_York:20280726T200000
DTSTAMP:20260424T224248
CREATED:20240427T231117Z
LAST-MODIFIED:20240427T231117Z
UID:10000051-1848250800-1848254400@sezf.org
SUMMARY:H&I Task Force
DESCRIPTION:Zoom Code 862 484 930
URL:https://sezf.org/event/hi-task-force/2028-07-26/
CATEGORIES:H&I Task Force
END:VEVENT
BEGIN:VEVENT
DTSTART;TZID=America/New_York:20280726T200000
DTEND;TZID=America/New_York:20280726T210000
DTSTAMP:20260424T224248
CREATED:20240427T232935Z
LAST-MODIFIED:20241128T020252Z
UID:10000112-1848254400-1848258000@sezf.org
SUMMARY:PR Task Force
DESCRIPTION:The main objectives of the SEZF PR Task Force are to inform the public about Narcotics Anonymous and train volunteers within our member regions. Any NA member with a desire to serve our task force is welcome to volunteer\, just join our PR Task Force virtual meeting. If you have an idea for a project\, please share it with our team. \nTopic: PR Task Force\nTime: 08:00 PM Eastern Time (US and Canada)\nEvery month on the fourth Wednesday \nJoin Zoom Meeting\nhttps://us02web.zoom.us/j/898667927 \nMeeting ID: 898 667 927
URL:https://sezf.org/event/pr-task-force/2028-07-26/
CATEGORIES:Public Relations Task Force
END:VEVENT
BEGIN:VEVENT
DTSTART;TZID=America/New_York:20280823T184500
DTEND;TZID=America/New_York:20280823T194500
DTSTAMP:20260424T224248
CREATED:20260425T014907Z
LAST-MODIFIED:20260425T015407Z
UID:10000356-1850669100-1850672700@sezf.org
SUMMARY:Fellowship Development Team
DESCRIPTION:Purpose: The SEZF Fellowship Development Team is here to build effective relationships with our members within our Zone and provide Fellowship services for our membership as needed. \nOur mission: To support the regions of the SEZF with mentorship\, training\, and digital support within the Zone and underserved communities. \nTopic: Symposium Workgroup \nJoin Zoom Meeting\nhttps://us02web.zoom.us/j/84827302538?pwd=53XjxFXbU84sbaJNElpp5rGHfecs3w.1 \nMeeting ID: 848 2730 2538\nPasscode: sezffd
URL:https://sezf.org/event/fellowship-development-team-2-2/2028-08-23/
END:VEVENT
BEGIN:VEVENT
DTSTART;TZID=America/New_York:20280823T190000
DTEND;TZID=America/New_York:20280823T200000
DTSTAMP:20260424T224248
CREATED:20240427T231117Z
LAST-MODIFIED:20240427T231117Z
UID:10000052-1850670000-1850673600@sezf.org
SUMMARY:H&I Task Force
DESCRIPTION:Zoom Code 862 484 930
URL:https://sezf.org/event/hi-task-force/2028-08-23/
CATEGORIES:H&I Task Force
END:VEVENT
BEGIN:VEVENT
DTSTART;TZID=America/New_York:20280823T200000
DTEND;TZID=America/New_York:20280823T210000
DTSTAMP:20260424T224248
CREATED:20240427T232935Z
LAST-MODIFIED:20241128T020252Z
UID:10000113-1850673600-1850677200@sezf.org
SUMMARY:PR Task Force
DESCRIPTION:The main objectives of the SEZF PR Task Force are to inform the public about Narcotics Anonymous and train volunteers within our member regions. Any NA member with a desire to serve our task force is welcome to volunteer\, just join our PR Task Force virtual meeting. If you have an idea for a project\, please share it with our team. \nTopic: PR Task Force\nTime: 08:00 PM Eastern Time (US and Canada)\nEvery month on the fourth Wednesday \nJoin Zoom Meeting\nhttps://us02web.zoom.us/j/898667927 \nMeeting ID: 898 667 927
URL:https://sezf.org/event/pr-task-force/2028-08-23/
CATEGORIES:Public Relations Task Force
END:VEVENT
BEGIN:VEVENT
DTSTART;TZID=America/New_York:20280927T184500
DTEND;TZID=America/New_York:20280927T194500
DTSTAMP:20260424T224248
CREATED:20260425T014907Z
LAST-MODIFIED:20260425T015407Z
UID:10000357-1853693100-1853696700@sezf.org
SUMMARY:Fellowship Development Team
DESCRIPTION:Purpose: The SEZF Fellowship Development Team is here to build effective relationships with our members within our Zone and provide Fellowship services for our membership as needed. \nOur mission: To support the regions of the SEZF with mentorship\, training\, and digital support within the Zone and underserved communities. \nTopic: Symposium Workgroup \nJoin Zoom Meeting\nhttps://us02web.zoom.us/j/84827302538?pwd=53XjxFXbU84sbaJNElpp5rGHfecs3w.1 \nMeeting ID: 848 2730 2538\nPasscode: sezffd
URL:https://sezf.org/event/fellowship-development-team-2-2/2028-09-27/
END:VEVENT
BEGIN:VEVENT
DTSTART;TZID=America/New_York:20280927T190000
DTEND;TZID=America/New_York:20280927T200000
DTSTAMP:20260424T224248
CREATED:20240427T231117Z
LAST-MODIFIED:20240427T231117Z
UID:10000053-1853694000-1853697600@sezf.org
SUMMARY:H&I Task Force
DESCRIPTION:Zoom Code 862 484 930
URL:https://sezf.org/event/hi-task-force/2028-09-27/
CATEGORIES:H&I Task Force
END:VEVENT
BEGIN:VEVENT
DTSTART;TZID=America/New_York:20280927T200000
DTEND;TZID=America/New_York:20280927T210000
DTSTAMP:20260424T224248
CREATED:20240427T232935Z
LAST-MODIFIED:20241128T020252Z
UID:10000114-1853697600-1853701200@sezf.org
SUMMARY:PR Task Force
DESCRIPTION:The main objectives of the SEZF PR Task Force are to inform the public about Narcotics Anonymous and train volunteers within our member regions. Any NA member with a desire to serve our task force is welcome to volunteer\, just join our PR Task Force virtual meeting. If you have an idea for a project\, please share it with our team. \nTopic: PR Task Force\nTime: 08:00 PM Eastern Time (US and Canada)\nEvery month on the fourth Wednesday \nJoin Zoom Meeting\nhttps://us02web.zoom.us/j/898667927 \nMeeting ID: 898 667 927
URL:https://sezf.org/event/pr-task-force/2028-09-27/
CATEGORIES:Public Relations Task Force
END:VEVENT
BEGIN:VEVENT
DTSTART;TZID=America/New_York:20281025T184500
DTEND;TZID=America/New_York:20281025T194500
DTSTAMP:20260424T224248
CREATED:20260425T014907Z
LAST-MODIFIED:20260425T015407Z
UID:10000358-1856112300-1856115900@sezf.org
SUMMARY:Fellowship Development Team
DESCRIPTION:Purpose: The SEZF Fellowship Development Team is here to build effective relationships with our members within our Zone and provide Fellowship services for our membership as needed. \nOur mission: To support the regions of the SEZF with mentorship\, training\, and digital support within the Zone and underserved communities. \nTopic: Symposium Workgroup \nJoin Zoom Meeting\nhttps://us02web.zoom.us/j/84827302538?pwd=53XjxFXbU84sbaJNElpp5rGHfecs3w.1 \nMeeting ID: 848 2730 2538\nPasscode: sezffd
URL:https://sezf.org/event/fellowship-development-team-2-2/2028-10-25/
END:VEVENT
BEGIN:VEVENT
DTSTART;TZID=America/New_York:20281025T190000
DTEND;TZID=America/New_York:20281025T200000
DTSTAMP:20260424T224248
CREATED:20240427T231117Z
LAST-MODIFIED:20240427T231117Z
UID:10000054-1856113200-1856116800@sezf.org
SUMMARY:H&I Task Force
DESCRIPTION:Zoom Code 862 484 930
URL:https://sezf.org/event/hi-task-force/2028-10-25/
CATEGORIES:H&I Task Force
END:VEVENT
BEGIN:VEVENT
DTSTART;TZID=America/New_York:20281025T200000
DTEND;TZID=America/New_York:20281025T210000
DTSTAMP:20260424T224248
CREATED:20240427T232935Z
LAST-MODIFIED:20241128T020252Z
UID:10000115-1856116800-1856120400@sezf.org
SUMMARY:PR Task Force
DESCRIPTION:The main objectives of the SEZF PR Task Force are to inform the public about Narcotics Anonymous and train volunteers within our member regions. Any NA member with a desire to serve our task force is welcome to volunteer\, just join our PR Task Force virtual meeting. If you have an idea for a project\, please share it with our team. \nTopic: PR Task Force\nTime: 08:00 PM Eastern Time (US and Canada)\nEvery month on the fourth Wednesday \nJoin Zoom Meeting\nhttps://us02web.zoom.us/j/898667927 \nMeeting ID: 898 667 927
URL:https://sezf.org/event/pr-task-force/2028-10-25/
CATEGORIES:Public Relations Task Force
END:VEVENT
BEGIN:VEVENT
DTSTART;TZID=America/New_York:20281122T184500
DTEND;TZID=America/New_York:20281122T194500
DTSTAMP:20260424T224248
CREATED:20260425T014907Z
LAST-MODIFIED:20260425T015407Z
UID:10000359-1858531500-1858535100@sezf.org
SUMMARY:Fellowship Development Team
DESCRIPTION:Purpose: The SEZF Fellowship Development Team is here to build effective relationships with our members within our Zone and provide Fellowship services for our membership as needed. \nOur mission: To support the regions of the SEZF with mentorship\, training\, and digital support within the Zone and underserved communities. \nTopic: Symposium Workgroup \nJoin Zoom Meeting\nhttps://us02web.zoom.us/j/84827302538?pwd=53XjxFXbU84sbaJNElpp5rGHfecs3w.1 \nMeeting ID: 848 2730 2538\nPasscode: sezffd
URL:https://sezf.org/event/fellowship-development-team-2-2/2028-11-22/
END:VEVENT
BEGIN:VEVENT
DTSTART;TZID=America/New_York:20281122T190000
DTEND;TZID=America/New_York:20281122T200000
DTSTAMP:20260424T224248
CREATED:20240427T231117Z
LAST-MODIFIED:20240427T231117Z
UID:10000055-1858532400-1858536000@sezf.org
SUMMARY:H&I Task Force
DESCRIPTION:Zoom Code 862 484 930
URL:https://sezf.org/event/hi-task-force/2028-11-22/
CATEGORIES:H&I Task Force
END:VEVENT
BEGIN:VEVENT
DTSTART;TZID=America/New_York:20281122T200000
DTEND;TZID=America/New_York:20281122T210000
DTSTAMP:20260424T224248
CREATED:20240427T232935Z
LAST-MODIFIED:20241128T020252Z
UID:10000116-1858536000-1858539600@sezf.org
SUMMARY:PR Task Force
DESCRIPTION:The main objectives of the SEZF PR Task Force are to inform the public about Narcotics Anonymous and train volunteers within our member regions. Any NA member with a desire to serve our task force is welcome to volunteer\, just join our PR Task Force virtual meeting. If you have an idea for a project\, please share it with our team. \nTopic: PR Task Force\nTime: 08:00 PM Eastern Time (US and Canada)\nEvery month on the fourth Wednesday \nJoin Zoom Meeting\nhttps://us02web.zoom.us/j/898667927 \nMeeting ID: 898 667 927
URL:https://sezf.org/event/pr-task-force/2028-11-22/
CATEGORIES:Public Relations Task Force
END:VEVENT
BEGIN:VEVENT
DTSTART;TZID=America/New_York:20281227T184500
DTEND;TZID=America/New_York:20281227T194500
DTSTAMP:20260424T224248
CREATED:20260425T014907Z
LAST-MODIFIED:20260425T015407Z
UID:10000360-1861555500-1861559100@sezf.org
SUMMARY:Fellowship Development Team
DESCRIPTION:Purpose: The SEZF Fellowship Development Team is here to build effective relationships with our members within our Zone and provide Fellowship services for our membership as needed. \nOur mission: To support the regions of the SEZF with mentorship\, training\, and digital support within the Zone and underserved communities. \nTopic: Symposium Workgroup \nJoin Zoom Meeting\nhttps://us02web.zoom.us/j/84827302538?pwd=53XjxFXbU84sbaJNElpp5rGHfecs3w.1 \nMeeting ID: 848 2730 2538\nPasscode: sezffd
URL:https://sezf.org/event/fellowship-development-team-2-2/2028-12-27/
END:VEVENT
BEGIN:VEVENT
DTSTART;TZID=America/New_York:20281227T190000
DTEND;TZID=America/New_York:20281227T200000
DTSTAMP:20260424T224248
CREATED:20240427T231117Z
LAST-MODIFIED:20240427T231117Z
UID:10000056-1861556400-1861560000@sezf.org
SUMMARY:H&I Task Force
DESCRIPTION:Zoom Code 862 484 930
URL:https://sezf.org/event/hi-task-force/2028-12-27/
CATEGORIES:H&I Task Force
END:VEVENT
BEGIN:VEVENT
DTSTART;TZID=America/New_York:20281227T200000
DTEND;TZID=America/New_York:20281227T210000
DTSTAMP:20260424T224248
CREATED:20240427T232935Z
LAST-MODIFIED:20241128T020252Z
UID:10000117-1861560000-1861563600@sezf.org
SUMMARY:PR Task Force
DESCRIPTION:The main objectives of the SEZF PR Task Force are to inform the public about Narcotics Anonymous and train volunteers within our member regions. Any NA member with a desire to serve our task force is welcome to volunteer\, just join our PR Task Force virtual meeting. If you have an idea for a project\, please share it with our team. \nTopic: PR Task Force\nTime: 08:00 PM Eastern Time (US and Canada)\nEvery month on the fourth Wednesday \nJoin Zoom Meeting\nhttps://us02web.zoom.us/j/898667927 \nMeeting ID: 898 667 927
URL:https://sezf.org/event/pr-task-force/2028-12-27/
CATEGORIES:Public Relations Task Force
END:VEVENT
BEGIN:VEVENT
DTSTART;TZID=America/New_York:20290124T184500
DTEND;TZID=America/New_York:20290124T194500
DTSTAMP:20260424T224248
CREATED:20260425T014907Z
LAST-MODIFIED:20260425T015407Z
UID:10000361-1863974700-1863978300@sezf.org
SUMMARY:Fellowship Development Team
DESCRIPTION:Purpose: The SEZF Fellowship Development Team is here to build effective relationships with our members within our Zone and provide Fellowship services for our membership as needed. \nOur mission: To support the regions of the SEZF with mentorship\, training\, and digital support within the Zone and underserved communities. \nTopic: Symposium Workgroup \nJoin Zoom Meeting\nhttps://us02web.zoom.us/j/84827302538?pwd=53XjxFXbU84sbaJNElpp5rGHfecs3w.1 \nMeeting ID: 848 2730 2538\nPasscode: sezffd
URL:https://sezf.org/event/fellowship-development-team-2-2/2029-01-24/
END:VEVENT
BEGIN:VEVENT
DTSTART;TZID=America/New_York:20290124T190000
DTEND;TZID=America/New_York:20290124T200000
DTSTAMP:20260424T224248
CREATED:20240427T231117Z
LAST-MODIFIED:20240427T231117Z
UID:10000057-1863975600-1863979200@sezf.org
SUMMARY:H&I Task Force
DESCRIPTION:Zoom Code 862 484 930
URL:https://sezf.org/event/hi-task-force/2029-01-24/
CATEGORIES:H&I Task Force
END:VEVENT
BEGIN:VEVENT
DTSTART;TZID=America/New_York:20290124T200000
DTEND;TZID=America/New_York:20290124T210000
DTSTAMP:20260424T224248
CREATED:20240427T232935Z
LAST-MODIFIED:20241128T020252Z
UID:10000118-1863979200-1863982800@sezf.org
SUMMARY:PR Task Force
DESCRIPTION:The main objectives of the SEZF PR Task Force are to inform the public about Narcotics Anonymous and train volunteers within our member regions. Any NA member with a desire to serve our task force is welcome to volunteer\, just join our PR Task Force virtual meeting. If you have an idea for a project\, please share it with our team. \nTopic: PR Task Force\nTime: 08:00 PM Eastern Time (US and Canada)\nEvery month on the fourth Wednesday \nJoin Zoom Meeting\nhttps://us02web.zoom.us/j/898667927 \nMeeting ID: 898 667 927
URL:https://sezf.org/event/pr-task-force/2029-01-24/
CATEGORIES:Public Relations Task Force
END:VEVENT
BEGIN:VEVENT
DTSTART;TZID=America/New_York:20290228T184500
DTEND;TZID=America/New_York:20290228T194500
DTSTAMP:20260424T224248
CREATED:20260425T014907Z
LAST-MODIFIED:20260425T015407Z
UID:10000362-1866998700-1867002300@sezf.org
SUMMARY:Fellowship Development Team
DESCRIPTION:Purpose: The SEZF Fellowship Development Team is here to build effective relationships with our members within our Zone and provide Fellowship services for our membership as needed. \nOur mission: To support the regions of the SEZF with mentorship\, training\, and digital support within the Zone and underserved communities. \nTopic: Symposium Workgroup \nJoin Zoom Meeting\nhttps://us02web.zoom.us/j/84827302538?pwd=53XjxFXbU84sbaJNElpp5rGHfecs3w.1 \nMeeting ID: 848 2730 2538\nPasscode: sezffd
URL:https://sezf.org/event/fellowship-development-team-2-2/2029-02-28/
END:VEVENT
BEGIN:VEVENT
DTSTART;TZID=America/New_York:20290228T190000
DTEND;TZID=America/New_York:20290228T200000
DTSTAMP:20260424T224248
CREATED:20240427T231117Z
LAST-MODIFIED:20240427T231117Z
UID:10000058-1866999600-1867003200@sezf.org
SUMMARY:H&I Task Force
DESCRIPTION:Zoom Code 862 484 930
URL:https://sezf.org/event/hi-task-force/2029-02-28/
CATEGORIES:H&I Task Force
END:VEVENT
BEGIN:VEVENT
DTSTART;TZID=America/New_York:20290228T200000
DTEND;TZID=America/New_York:20290228T210000
DTSTAMP:20260424T224248
CREATED:20240427T232935Z
LAST-MODIFIED:20241128T020252Z
UID:10000119-1867003200-1867006800@sezf.org
SUMMARY:PR Task Force
DESCRIPTION:The main objectives of the SEZF PR Task Force are to inform the public about Narcotics Anonymous and train volunteers within our member regions. Any NA member with a desire to serve our task force is welcome to volunteer\, just join our PR Task Force virtual meeting. If you have an idea for a project\, please share it with our team. \nTopic: PR Task Force\nTime: 08:00 PM Eastern Time (US and Canada)\nEvery month on the fourth Wednesday \nJoin Zoom Meeting\nhttps://us02web.zoom.us/j/898667927 \nMeeting ID: 898 667 927
URL:https://sezf.org/event/pr-task-force/2029-02-28/
CATEGORIES:Public Relations Task Force
END:VEVENT
BEGIN:VEVENT
DTSTART;TZID=America/New_York:20290328T184500
DTEND;TZID=America/New_York:20290328T194500
DTSTAMP:20260424T224248
CREATED:20260425T014907Z
LAST-MODIFIED:20260425T015407Z
UID:10000363-1869417900-1869421500@sezf.org
SUMMARY:Fellowship Development Team
DESCRIPTION:Purpose: The SEZF Fellowship Development Team is here to build effective relationships with our members within our Zone and provide Fellowship services for our membership as needed. \nOur mission: To support the regions of the SEZF with mentorship\, training\, and digital support within the Zone and underserved communities. \nTopic: Symposium Workgroup \nJoin Zoom Meeting\nhttps://us02web.zoom.us/j/84827302538?pwd=53XjxFXbU84sbaJNElpp5rGHfecs3w.1 \nMeeting ID: 848 2730 2538\nPasscode: sezffd
URL:https://sezf.org/event/fellowship-development-team-2-2/2029-03-28/
END:VEVENT
BEGIN:VEVENT
DTSTART;TZID=America/New_York:20290328T190000
DTEND;TZID=America/New_York:20290328T200000
DTSTAMP:20260424T224248
CREATED:20240427T231117Z
LAST-MODIFIED:20240427T231117Z
UID:10000059-1869418800-1869422400@sezf.org
SUMMARY:H&I Task Force
DESCRIPTION:Zoom Code 862 484 930
URL:https://sezf.org/event/hi-task-force/2029-03-28/
CATEGORIES:H&I Task Force
END:VEVENT
BEGIN:VEVENT
DTSTART;TZID=America/New_York:20290328T200000
DTEND;TZID=America/New_York:20290328T210000
DTSTAMP:20260424T224248
CREATED:20240427T232935Z
LAST-MODIFIED:20241128T020252Z
UID:10000120-1869422400-1869426000@sezf.org
SUMMARY:PR Task Force
DESCRIPTION:The main objectives of the SEZF PR Task Force are to inform the public about Narcotics Anonymous and train volunteers within our member regions. Any NA member with a desire to serve our task force is welcome to volunteer\, just join our PR Task Force virtual meeting. If you have an idea for a project\, please share it with our team. \nTopic: PR Task Force\nTime: 08:00 PM Eastern Time (US and Canada)\nEvery month on the fourth Wednesday \nJoin Zoom Meeting\nhttps://us02web.zoom.us/j/898667927 \nMeeting ID: 898 667 927
URL:https://sezf.org/event/pr-task-force/2029-03-28/
CATEGORIES:Public Relations Task Force
END:VEVENT
BEGIN:VEVENT
DTSTART;TZID=America/New_York:20290425T184500
DTEND;TZID=America/New_York:20290425T194500
DTSTAMP:20260424T224248
CREATED:20260425T014907Z
LAST-MODIFIED:20260425T015407Z
UID:10000364-1871837100-1871840700@sezf.org
SUMMARY:Fellowship Development Team
DESCRIPTION:Purpose: The SEZF Fellowship Development Team is here to build effective relationships with our members within our Zone and provide Fellowship services for our membership as needed. \nOur mission: To support the regions of the SEZF with mentorship\, training\, and digital support within the Zone and underserved communities. \nTopic: Symposium Workgroup \nJoin Zoom Meeting\nhttps://us02web.zoom.us/j/84827302538?pwd=53XjxFXbU84sbaJNElpp5rGHfecs3w.1 \nMeeting ID: 848 2730 2538\nPasscode: sezffd
URL:https://sezf.org/event/fellowship-development-team-2-2/2029-04-25/
END:VEVENT
END:VCALENDAR