BEGIN:VCALENDAR
VERSION:2.0
PRODID:-//Southeastern Zonal Forum - ECPv6.14.2//NONSGML v1.0//EN
CALSCALE:GREGORIAN
METHOD:PUBLISH
X-WR-CALNAME:Southeastern Zonal Forum
X-ORIGINAL-URL:https://sezf.org
X-WR-CALDESC:Events for Southeastern Zonal Forum
REFRESH-INTERVAL;VALUE=DURATION:PT1H
X-Robots-Tag:noindex
X-PUBLISHED-TTL:PT1H
BEGIN:VTIMEZONE
TZID:America/New_York
BEGIN:DAYLIGHT
TZOFFSETFROM:-0500
TZOFFSETTO:-0400
TZNAME:EDT
DTSTART:20290311T070000
END:DAYLIGHT
BEGIN:STANDARD
TZOFFSETFROM:-0400
TZOFFSETTO:-0500
TZNAME:EST
DTSTART:20291104T060000
END:STANDARD
BEGIN:DAYLIGHT
TZOFFSETFROM:-0500
TZOFFSETTO:-0400
TZNAME:EDT
DTSTART:20300310T070000
END:DAYLIGHT
BEGIN:STANDARD
TZOFFSETFROM:-0400
TZOFFSETTO:-0500
TZNAME:EST
DTSTART:20301103T060000
END:STANDARD
BEGIN:DAYLIGHT
TZOFFSETFROM:-0500
TZOFFSETTO:-0400
TZNAME:EDT
DTSTART:20310309T070000
END:DAYLIGHT
BEGIN:STANDARD
TZOFFSETFROM:-0400
TZOFFSETTO:-0500
TZNAME:EST
DTSTART:20311102T060000
END:STANDARD
END:VTIMEZONE
BEGIN:VEVENT
DTSTART;TZID=America/New_York:20291026T184500
DTEND;TZID=America/New_York:20291026T194500
DTSTAMP:20260423T040114
CREATED:20260423T021439Z
LAST-MODIFIED:20260423T021439Z
UID:10000252-1887734700-1887738300@sezf.org
SUMMARY:Fellowship Development Team
DESCRIPTION:Purpose: The SEZF Fellowship Development Team is here to build effective relationships with our members within our Zone and provide Fellowship services for our membership as needed. \nOur mission: To support the regions of the SEZF with mentorship\, training\, and digital support within the Zone and underserved communities. \nTopic: Symposium Workgroup \nJoin Zoom Meeting\nhttps://us02web.zoom.us/j/84827302538?pwd=53XjxFXbU84sbaJNElpp5rGHfecs3w.1 \nMeeting ID: 848 2730 2538\nPasscode: sezffd
URL:https://sezf.org/event/fellowship-development-team-2/2029-10-26/
END:VEVENT
BEGIN:VEVENT
DTSTART;TZID=America/New_York:20291123T184500
DTEND;TZID=America/New_York:20291123T194500
DTSTAMP:20260423T040114
CREATED:20260423T021439Z
LAST-MODIFIED:20260423T021439Z
UID:10000253-1890153900-1890157500@sezf.org
SUMMARY:Fellowship Development Team
DESCRIPTION:Purpose: The SEZF Fellowship Development Team is here to build effective relationships with our members within our Zone and provide Fellowship services for our membership as needed. \nOur mission: To support the regions of the SEZF with mentorship\, training\, and digital support within the Zone and underserved communities. \nTopic: Symposium Workgroup \nJoin Zoom Meeting\nhttps://us02web.zoom.us/j/84827302538?pwd=53XjxFXbU84sbaJNElpp5rGHfecs3w.1 \nMeeting ID: 848 2730 2538\nPasscode: sezffd
URL:https://sezf.org/event/fellowship-development-team-2/2029-11-23/
END:VEVENT
BEGIN:VEVENT
DTSTART;TZID=America/New_York:20291228T184500
DTEND;TZID=America/New_York:20291228T194500
DTSTAMP:20260423T040114
CREATED:20260423T021439Z
LAST-MODIFIED:20260423T021439Z
UID:10000254-1893177900-1893181500@sezf.org
SUMMARY:Fellowship Development Team
DESCRIPTION:Purpose: The SEZF Fellowship Development Team is here to build effective relationships with our members within our Zone and provide Fellowship services for our membership as needed. \nOur mission: To support the regions of the SEZF with mentorship\, training\, and digital support within the Zone and underserved communities. \nTopic: Symposium Workgroup \nJoin Zoom Meeting\nhttps://us02web.zoom.us/j/84827302538?pwd=53XjxFXbU84sbaJNElpp5rGHfecs3w.1 \nMeeting ID: 848 2730 2538\nPasscode: sezffd
URL:https://sezf.org/event/fellowship-development-team-2/2029-12-28/
END:VEVENT
BEGIN:VEVENT
DTSTART;TZID=America/New_York:20300125T184500
DTEND;TZID=America/New_York:20300125T194500
DTSTAMP:20260423T040114
CREATED:20260423T021439Z
LAST-MODIFIED:20260423T021439Z
UID:10000255-1895597100-1895600700@sezf.org
SUMMARY:Fellowship Development Team
DESCRIPTION:Purpose: The SEZF Fellowship Development Team is here to build effective relationships with our members within our Zone and provide Fellowship services for our membership as needed. \nOur mission: To support the regions of the SEZF with mentorship\, training\, and digital support within the Zone and underserved communities. \nTopic: Symposium Workgroup \nJoin Zoom Meeting\nhttps://us02web.zoom.us/j/84827302538?pwd=53XjxFXbU84sbaJNElpp5rGHfecs3w.1 \nMeeting ID: 848 2730 2538\nPasscode: sezffd
URL:https://sezf.org/event/fellowship-development-team-2/2030-01-25/
END:VEVENT
BEGIN:VEVENT
DTSTART;TZID=America/New_York:20300222T184500
DTEND;TZID=America/New_York:20300222T194500
DTSTAMP:20260423T040114
CREATED:20260423T021439Z
LAST-MODIFIED:20260423T021439Z
UID:10000256-1898016300-1898019900@sezf.org
SUMMARY:Fellowship Development Team
DESCRIPTION:Purpose: The SEZF Fellowship Development Team is here to build effective relationships with our members within our Zone and provide Fellowship services for our membership as needed. \nOur mission: To support the regions of the SEZF with mentorship\, training\, and digital support within the Zone and underserved communities. \nTopic: Symposium Workgroup \nJoin Zoom Meeting\nhttps://us02web.zoom.us/j/84827302538?pwd=53XjxFXbU84sbaJNElpp5rGHfecs3w.1 \nMeeting ID: 848 2730 2538\nPasscode: sezffd
URL:https://sezf.org/event/fellowship-development-team-2/2030-02-22/
END:VEVENT
BEGIN:VEVENT
DTSTART;TZID=America/New_York:20300322T184500
DTEND;TZID=America/New_York:20300322T194500
DTSTAMP:20260423T040114
CREATED:20260423T021439Z
LAST-MODIFIED:20260423T021439Z
UID:10000257-1900435500-1900439100@sezf.org
SUMMARY:Fellowship Development Team
DESCRIPTION:Purpose: The SEZF Fellowship Development Team is here to build effective relationships with our members within our Zone and provide Fellowship services for our membership as needed. \nOur mission: To support the regions of the SEZF with mentorship\, training\, and digital support within the Zone and underserved communities. \nTopic: Symposium Workgroup \nJoin Zoom Meeting\nhttps://us02web.zoom.us/j/84827302538?pwd=53XjxFXbU84sbaJNElpp5rGHfecs3w.1 \nMeeting ID: 848 2730 2538\nPasscode: sezffd
URL:https://sezf.org/event/fellowship-development-team-2/2030-03-22/
END:VEVENT
BEGIN:VEVENT
DTSTART;TZID=America/New_York:20300426T184500
DTEND;TZID=America/New_York:20300426T194500
DTSTAMP:20260423T040114
CREATED:20260423T021439Z
LAST-MODIFIED:20260423T021439Z
UID:10000258-1903459500-1903463100@sezf.org
SUMMARY:Fellowship Development Team
DESCRIPTION:Purpose: The SEZF Fellowship Development Team is here to build effective relationships with our members within our Zone and provide Fellowship services for our membership as needed. \nOur mission: To support the regions of the SEZF with mentorship\, training\, and digital support within the Zone and underserved communities. \nTopic: Symposium Workgroup \nJoin Zoom Meeting\nhttps://us02web.zoom.us/j/84827302538?pwd=53XjxFXbU84sbaJNElpp5rGHfecs3w.1 \nMeeting ID: 848 2730 2538\nPasscode: sezffd
URL:https://sezf.org/event/fellowship-development-team-2/2030-04-26/
END:VEVENT
BEGIN:VEVENT
DTSTART;TZID=America/New_York:20300524T184500
DTEND;TZID=America/New_York:20300524T194500
DTSTAMP:20260423T040114
CREATED:20260423T021439Z
LAST-MODIFIED:20260423T021439Z
UID:10000259-1905878700-1905882300@sezf.org
SUMMARY:Fellowship Development Team
DESCRIPTION:Purpose: The SEZF Fellowship Development Team is here to build effective relationships with our members within our Zone and provide Fellowship services for our membership as needed. \nOur mission: To support the regions of the SEZF with mentorship\, training\, and digital support within the Zone and underserved communities. \nTopic: Symposium Workgroup \nJoin Zoom Meeting\nhttps://us02web.zoom.us/j/84827302538?pwd=53XjxFXbU84sbaJNElpp5rGHfecs3w.1 \nMeeting ID: 848 2730 2538\nPasscode: sezffd
URL:https://sezf.org/event/fellowship-development-team-2/2030-05-24/
END:VEVENT
BEGIN:VEVENT
DTSTART;TZID=America/New_York:20300628T184500
DTEND;TZID=America/New_York:20300628T194500
DTSTAMP:20260423T040114
CREATED:20260423T021439Z
LAST-MODIFIED:20260423T021439Z
UID:10000260-1908902700-1908906300@sezf.org
SUMMARY:Fellowship Development Team
DESCRIPTION:Purpose: The SEZF Fellowship Development Team is here to build effective relationships with our members within our Zone and provide Fellowship services for our membership as needed. \nOur mission: To support the regions of the SEZF with mentorship\, training\, and digital support within the Zone and underserved communities. \nTopic: Symposium Workgroup \nJoin Zoom Meeting\nhttps://us02web.zoom.us/j/84827302538?pwd=53XjxFXbU84sbaJNElpp5rGHfecs3w.1 \nMeeting ID: 848 2730 2538\nPasscode: sezffd
URL:https://sezf.org/event/fellowship-development-team-2/2030-06-28/
END:VEVENT
BEGIN:VEVENT
DTSTART;TZID=America/New_York:20300726T184500
DTEND;TZID=America/New_York:20300726T194500
DTSTAMP:20260423T040114
CREATED:20260423T021439Z
LAST-MODIFIED:20260423T021439Z
UID:10000261-1911321900-1911325500@sezf.org
SUMMARY:Fellowship Development Team
DESCRIPTION:Purpose: The SEZF Fellowship Development Team is here to build effective relationships with our members within our Zone and provide Fellowship services for our membership as needed. \nOur mission: To support the regions of the SEZF with mentorship\, training\, and digital support within the Zone and underserved communities. \nTopic: Symposium Workgroup \nJoin Zoom Meeting\nhttps://us02web.zoom.us/j/84827302538?pwd=53XjxFXbU84sbaJNElpp5rGHfecs3w.1 \nMeeting ID: 848 2730 2538\nPasscode: sezffd
URL:https://sezf.org/event/fellowship-development-team-2/2030-07-26/
END:VEVENT
BEGIN:VEVENT
DTSTART;TZID=America/New_York:20300823T184500
DTEND;TZID=America/New_York:20300823T194500
DTSTAMP:20260423T040114
CREATED:20260423T021439Z
LAST-MODIFIED:20260423T021439Z
UID:10000262-1913741100-1913744700@sezf.org
SUMMARY:Fellowship Development Team
DESCRIPTION:Purpose: The SEZF Fellowship Development Team is here to build effective relationships with our members within our Zone and provide Fellowship services for our membership as needed. \nOur mission: To support the regions of the SEZF with mentorship\, training\, and digital support within the Zone and underserved communities. \nTopic: Symposium Workgroup \nJoin Zoom Meeting\nhttps://us02web.zoom.us/j/84827302538?pwd=53XjxFXbU84sbaJNElpp5rGHfecs3w.1 \nMeeting ID: 848 2730 2538\nPasscode: sezffd
URL:https://sezf.org/event/fellowship-development-team-2/2030-08-23/
END:VEVENT
BEGIN:VEVENT
DTSTART;TZID=America/New_York:20300927T184500
DTEND;TZID=America/New_York:20300927T194500
DTSTAMP:20260423T040114
CREATED:20260423T021439Z
LAST-MODIFIED:20260423T021439Z
UID:10000263-1916765100-1916768700@sezf.org
SUMMARY:Fellowship Development Team
DESCRIPTION:Purpose: The SEZF Fellowship Development Team is here to build effective relationships with our members within our Zone and provide Fellowship services for our membership as needed. \nOur mission: To support the regions of the SEZF with mentorship\, training\, and digital support within the Zone and underserved communities. \nTopic: Symposium Workgroup \nJoin Zoom Meeting\nhttps://us02web.zoom.us/j/84827302538?pwd=53XjxFXbU84sbaJNElpp5rGHfecs3w.1 \nMeeting ID: 848 2730 2538\nPasscode: sezffd
URL:https://sezf.org/event/fellowship-development-team-2/2030-09-27/
END:VEVENT
BEGIN:VEVENT
DTSTART;TZID=America/New_York:20301025T184500
DTEND;TZID=America/New_York:20301025T194500
DTSTAMP:20260423T040114
CREATED:20260423T021439Z
LAST-MODIFIED:20260423T021439Z
UID:10000264-1919184300-1919187900@sezf.org
SUMMARY:Fellowship Development Team
DESCRIPTION:Purpose: The SEZF Fellowship Development Team is here to build effective relationships with our members within our Zone and provide Fellowship services for our membership as needed. \nOur mission: To support the regions of the SEZF with mentorship\, training\, and digital support within the Zone and underserved communities. \nTopic: Symposium Workgroup \nJoin Zoom Meeting\nhttps://us02web.zoom.us/j/84827302538?pwd=53XjxFXbU84sbaJNElpp5rGHfecs3w.1 \nMeeting ID: 848 2730 2538\nPasscode: sezffd
URL:https://sezf.org/event/fellowship-development-team-2/2030-10-25/
END:VEVENT
BEGIN:VEVENT
DTSTART;TZID=America/New_York:20301122T184500
DTEND;TZID=America/New_York:20301122T194500
DTSTAMP:20260423T040114
CREATED:20260423T021439Z
LAST-MODIFIED:20260423T021439Z
UID:10000265-1921603500-1921607100@sezf.org
SUMMARY:Fellowship Development Team
DESCRIPTION:Purpose: The SEZF Fellowship Development Team is here to build effective relationships with our members within our Zone and provide Fellowship services for our membership as needed. \nOur mission: To support the regions of the SEZF with mentorship\, training\, and digital support within the Zone and underserved communities. \nTopic: Symposium Workgroup \nJoin Zoom Meeting\nhttps://us02web.zoom.us/j/84827302538?pwd=53XjxFXbU84sbaJNElpp5rGHfecs3w.1 \nMeeting ID: 848 2730 2538\nPasscode: sezffd
URL:https://sezf.org/event/fellowship-development-team-2/2030-11-22/
END:VEVENT
BEGIN:VEVENT
DTSTART;TZID=America/New_York:20301227T184500
DTEND;TZID=America/New_York:20301227T194500
DTSTAMP:20260423T040114
CREATED:20260423T021439Z
LAST-MODIFIED:20260423T021439Z
UID:10000266-1924627500-1924631100@sezf.org
SUMMARY:Fellowship Development Team
DESCRIPTION:Purpose: The SEZF Fellowship Development Team is here to build effective relationships with our members within our Zone and provide Fellowship services for our membership as needed. \nOur mission: To support the regions of the SEZF with mentorship\, training\, and digital support within the Zone and underserved communities. \nTopic: Symposium Workgroup \nJoin Zoom Meeting\nhttps://us02web.zoom.us/j/84827302538?pwd=53XjxFXbU84sbaJNElpp5rGHfecs3w.1 \nMeeting ID: 848 2730 2538\nPasscode: sezffd
URL:https://sezf.org/event/fellowship-development-team-2/2030-12-27/
END:VEVENT
BEGIN:VEVENT
DTSTART;TZID=America/New_York:20310124T184500
DTEND;TZID=America/New_York:20310124T194500
DTSTAMP:20260423T040114
CREATED:20260423T021439Z
LAST-MODIFIED:20260423T021439Z
UID:10000267-1927046700-1927050300@sezf.org
SUMMARY:Fellowship Development Team
DESCRIPTION:Purpose: The SEZF Fellowship Development Team is here to build effective relationships with our members within our Zone and provide Fellowship services for our membership as needed. \nOur mission: To support the regions of the SEZF with mentorship\, training\, and digital support within the Zone and underserved communities. \nTopic: Symposium Workgroup \nJoin Zoom Meeting\nhttps://us02web.zoom.us/j/84827302538?pwd=53XjxFXbU84sbaJNElpp5rGHfecs3w.1 \nMeeting ID: 848 2730 2538\nPasscode: sezffd
URL:https://sezf.org/event/fellowship-development-team-2/2031-01-24/
END:VEVENT
BEGIN:VEVENT
DTSTART;TZID=America/New_York:20310228T184500
DTEND;TZID=America/New_York:20310228T194500
DTSTAMP:20260423T040114
CREATED:20260423T021439Z
LAST-MODIFIED:20260423T021439Z
UID:10000268-1930070700-1930074300@sezf.org
SUMMARY:Fellowship Development Team
DESCRIPTION:Purpose: The SEZF Fellowship Development Team is here to build effective relationships with our members within our Zone and provide Fellowship services for our membership as needed. \nOur mission: To support the regions of the SEZF with mentorship\, training\, and digital support within the Zone and underserved communities. \nTopic: Symposium Workgroup \nJoin Zoom Meeting\nhttps://us02web.zoom.us/j/84827302538?pwd=53XjxFXbU84sbaJNElpp5rGHfecs3w.1 \nMeeting ID: 848 2730 2538\nPasscode: sezffd
URL:https://sezf.org/event/fellowship-development-team-2/2031-02-28/
END:VEVENT
BEGIN:VEVENT
DTSTART;TZID=America/New_York:20310328T184500
DTEND;TZID=America/New_York:20310328T194500
DTSTAMP:20260423T040114
CREATED:20260423T021439Z
LAST-MODIFIED:20260423T021439Z
UID:10000269-1932489900-1932493500@sezf.org
SUMMARY:Fellowship Development Team
DESCRIPTION:Purpose: The SEZF Fellowship Development Team is here to build effective relationships with our members within our Zone and provide Fellowship services for our membership as needed. \nOur mission: To support the regions of the SEZF with mentorship\, training\, and digital support within the Zone and underserved communities. \nTopic: Symposium Workgroup \nJoin Zoom Meeting\nhttps://us02web.zoom.us/j/84827302538?pwd=53XjxFXbU84sbaJNElpp5rGHfecs3w.1 \nMeeting ID: 848 2730 2538\nPasscode: sezffd
URL:https://sezf.org/event/fellowship-development-team-2/2031-03-28/
END:VEVENT
END:VCALENDAR