BEGIN:VCALENDAR
VERSION:2.0
PRODID:-//Southeastern Zonal Forum - ECPv6.14.2//NONSGML v1.0//EN
CALSCALE:GREGORIAN
METHOD:PUBLISH
X-ORIGINAL-URL:https://sezf.org
X-WR-CALDESC:Events for Southeastern Zonal Forum
REFRESH-INTERVAL;VALUE=DURATION:PT1H
X-Robots-Tag:noindex
X-PUBLISHED-TTL:PT1H
BEGIN:VTIMEZONE
TZID:America/New_York
BEGIN:DAYLIGHT
TZOFFSETFROM:-0500
TZOFFSETTO:-0400
TZNAME:EDT
DTSTART:20260308T070000
END:DAYLIGHT
BEGIN:STANDARD
TZOFFSETFROM:-0400
TZOFFSETTO:-0500
TZNAME:EST
DTSTART:20261101T060000
END:STANDARD
BEGIN:DAYLIGHT
TZOFFSETFROM:-0500
TZOFFSETTO:-0400
TZNAME:EDT
DTSTART:20270314T070000
END:DAYLIGHT
BEGIN:STANDARD
TZOFFSETFROM:-0400
TZOFFSETTO:-0500
TZNAME:EST
DTSTART:20271107T060000
END:STANDARD
END:VTIMEZONE
BEGIN:VEVENT
DTSTART;TZID=America/New_York:20261225T184500
DTEND;TZID=America/New_York:20261225T194500
DTSTAMP:20260423T050747
CREATED:20260423T021439Z
LAST-MODIFIED:20260423T021439Z
UID:10000218-1798224300-1798227900@sezf.org
SUMMARY:Fellowship Development Team
DESCRIPTION:Purpose: The SEZF Fellowship Development Team is here to build effective relationships with our members within our Zone and provide Fellowship services for our membership as needed. \nOur mission: To support the regions of the SEZF with mentorship\, training\, and digital support within the Zone and underserved communities. \nTopic: Symposium Workgroup \nJoin Zoom Meeting\nhttps://us02web.zoom.us/j/84827302538?pwd=53XjxFXbU84sbaJNElpp5rGHfecs3w.1 \nMeeting ID: 848 2730 2538\nPasscode: sezffd
URL:https://sezf.org/event/fellowship-development-team-2/2026-12-25/
END:VEVENT
BEGIN:VEVENT
DTSTART;TZID=America/New_York:20270122T184500
DTEND;TZID=America/New_York:20270122T194500
DTSTAMP:20260423T050747
CREATED:20260423T021439Z
LAST-MODIFIED:20260423T021439Z
UID:10000219-1800643500-1800647100@sezf.org
SUMMARY:Fellowship Development Team
DESCRIPTION:Purpose: The SEZF Fellowship Development Team is here to build effective relationships with our members within our Zone and provide Fellowship services for our membership as needed. \nOur mission: To support the regions of the SEZF with mentorship\, training\, and digital support within the Zone and underserved communities. \nTopic: Symposium Workgroup \nJoin Zoom Meeting\nhttps://us02web.zoom.us/j/84827302538?pwd=53XjxFXbU84sbaJNElpp5rGHfecs3w.1 \nMeeting ID: 848 2730 2538\nPasscode: sezffd
URL:https://sezf.org/event/fellowship-development-team-2/2027-01-22/
END:VEVENT
BEGIN:VEVENT
DTSTART;TZID=America/New_York:20270127T190000
DTEND;TZID=America/New_York:20270127T200000
DTSTAMP:20260423T050747
CREATED:20240427T231117Z
LAST-MODIFIED:20240427T231117Z
UID:10000033-1801076400-1801080000@sezf.org
SUMMARY:H&I Task Force
DESCRIPTION:Zoom Code 862 484 930
URL:https://sezf.org/event/hi-task-force/2027-01-27/
CATEGORIES:H&I Task Force
END:VEVENT
BEGIN:VEVENT
DTSTART;TZID=America/New_York:20270127T200000
DTEND;TZID=America/New_York:20270127T210000
DTSTAMP:20260423T050747
CREATED:20240427T232935Z
LAST-MODIFIED:20241128T020252Z
UID:10000094-1801080000-1801083600@sezf.org
SUMMARY:PR Task Force
DESCRIPTION:The main objectives of the SEZF PR Task Force are to inform the public about Narcotics Anonymous and train volunteers within our member regions. Any NA member with a desire to serve our task force is welcome to volunteer\, just join our PR Task Force virtual meeting. If you have an idea for a project\, please share it with our team. \nTopic: PR Task Force\nTime: 08:00 PM Eastern Time (US and Canada)\nEvery month on the fourth Wednesday \nJoin Zoom Meeting\nhttps://us02web.zoom.us/j/898667927 \nMeeting ID: 898 667 927
URL:https://sezf.org/event/pr-task-force/2027-01-27/
CATEGORIES:Public Relations Task Force
END:VEVENT
BEGIN:VEVENT
DTSTART;TZID=America/New_York:20270224T190000
DTEND;TZID=America/New_York:20270224T200000
DTSTAMP:20260423T050747
CREATED:20240427T231117Z
LAST-MODIFIED:20240427T231117Z
UID:10000034-1803495600-1803499200@sezf.org
SUMMARY:H&I Task Force
DESCRIPTION:Zoom Code 862 484 930
URL:https://sezf.org/event/hi-task-force/2027-02-24/
CATEGORIES:H&I Task Force
END:VEVENT
BEGIN:VEVENT
DTSTART;TZID=America/New_York:20270224T200000
DTEND;TZID=America/New_York:20270224T210000
DTSTAMP:20260423T050747
CREATED:20240427T232935Z
LAST-MODIFIED:20241128T020252Z
UID:10000095-1803499200-1803502800@sezf.org
SUMMARY:PR Task Force
DESCRIPTION:The main objectives of the SEZF PR Task Force are to inform the public about Narcotics Anonymous and train volunteers within our member regions. Any NA member with a desire to serve our task force is welcome to volunteer\, just join our PR Task Force virtual meeting. If you have an idea for a project\, please share it with our team. \nTopic: PR Task Force\nTime: 08:00 PM Eastern Time (US and Canada)\nEvery month on the fourth Wednesday \nJoin Zoom Meeting\nhttps://us02web.zoom.us/j/898667927 \nMeeting ID: 898 667 927
URL:https://sezf.org/event/pr-task-force/2027-02-24/
CATEGORIES:Public Relations Task Force
END:VEVENT
BEGIN:VEVENT
DTSTART;TZID=America/New_York:20270226T184500
DTEND;TZID=America/New_York:20270226T194500
DTSTAMP:20260423T050747
CREATED:20260423T021439Z
LAST-MODIFIED:20260423T021439Z
UID:10000220-1803667500-1803671100@sezf.org
SUMMARY:Fellowship Development Team
DESCRIPTION:Purpose: The SEZF Fellowship Development Team is here to build effective relationships with our members within our Zone and provide Fellowship services for our membership as needed. \nOur mission: To support the regions of the SEZF with mentorship\, training\, and digital support within the Zone and underserved communities. \nTopic: Symposium Workgroup \nJoin Zoom Meeting\nhttps://us02web.zoom.us/j/84827302538?pwd=53XjxFXbU84sbaJNElpp5rGHfecs3w.1 \nMeeting ID: 848 2730 2538\nPasscode: sezffd
URL:https://sezf.org/event/fellowship-development-team-2/2027-02-26/
END:VEVENT
BEGIN:VEVENT
DTSTART;TZID=America/New_York:20270324T190000
DTEND;TZID=America/New_York:20270324T200000
DTSTAMP:20260423T050747
CREATED:20240427T231117Z
LAST-MODIFIED:20240427T231117Z
UID:10000035-1805914800-1805918400@sezf.org
SUMMARY:H&I Task Force
DESCRIPTION:Zoom Code 862 484 930
URL:https://sezf.org/event/hi-task-force/2027-03-24/
CATEGORIES:H&I Task Force
END:VEVENT
BEGIN:VEVENT
DTSTART;TZID=America/New_York:20270324T200000
DTEND;TZID=America/New_York:20270324T210000
DTSTAMP:20260423T050747
CREATED:20240427T232935Z
LAST-MODIFIED:20241128T020252Z
UID:10000096-1805918400-1805922000@sezf.org
SUMMARY:PR Task Force
DESCRIPTION:The main objectives of the SEZF PR Task Force are to inform the public about Narcotics Anonymous and train volunteers within our member regions. Any NA member with a desire to serve our task force is welcome to volunteer\, just join our PR Task Force virtual meeting. If you have an idea for a project\, please share it with our team. \nTopic: PR Task Force\nTime: 08:00 PM Eastern Time (US and Canada)\nEvery month on the fourth Wednesday \nJoin Zoom Meeting\nhttps://us02web.zoom.us/j/898667927 \nMeeting ID: 898 667 927
URL:https://sezf.org/event/pr-task-force/2027-03-24/
CATEGORIES:Public Relations Task Force
END:VEVENT
BEGIN:VEVENT
DTSTART;TZID=America/New_York:20270326T184500
DTEND;TZID=America/New_York:20270326T194500
DTSTAMP:20260423T050747
CREATED:20260423T021439Z
LAST-MODIFIED:20260423T021439Z
UID:10000221-1806086700-1806090300@sezf.org
SUMMARY:Fellowship Development Team
DESCRIPTION:Purpose: The SEZF Fellowship Development Team is here to build effective relationships with our members within our Zone and provide Fellowship services for our membership as needed. \nOur mission: To support the regions of the SEZF with mentorship\, training\, and digital support within the Zone and underserved communities. \nTopic: Symposium Workgroup \nJoin Zoom Meeting\nhttps://us02web.zoom.us/j/84827302538?pwd=53XjxFXbU84sbaJNElpp5rGHfecs3w.1 \nMeeting ID: 848 2730 2538\nPasscode: sezffd
URL:https://sezf.org/event/fellowship-development-team-2/2027-03-26/
END:VEVENT
BEGIN:VEVENT
DTSTART;TZID=America/New_York:20270423T184500
DTEND;TZID=America/New_York:20270423T194500
DTSTAMP:20260423T050747
CREATED:20260423T021439Z
LAST-MODIFIED:20260423T021439Z
UID:10000222-1808505900-1808509500@sezf.org
SUMMARY:Fellowship Development Team
DESCRIPTION:Purpose: The SEZF Fellowship Development Team is here to build effective relationships with our members within our Zone and provide Fellowship services for our membership as needed. \nOur mission: To support the regions of the SEZF with mentorship\, training\, and digital support within the Zone and underserved communities. \nTopic: Symposium Workgroup \nJoin Zoom Meeting\nhttps://us02web.zoom.us/j/84827302538?pwd=53XjxFXbU84sbaJNElpp5rGHfecs3w.1 \nMeeting ID: 848 2730 2538\nPasscode: sezffd
URL:https://sezf.org/event/fellowship-development-team-2/2027-04-23/
END:VEVENT
BEGIN:VEVENT
DTSTART;TZID=America/New_York:20270428T190000
DTEND;TZID=America/New_York:20270428T200000
DTSTAMP:20260423T050747
CREATED:20240427T231117Z
LAST-MODIFIED:20240427T231117Z
UID:10000036-1808938800-1808942400@sezf.org
SUMMARY:H&I Task Force
DESCRIPTION:Zoom Code 862 484 930
URL:https://sezf.org/event/hi-task-force/2027-04-28/
CATEGORIES:H&I Task Force
END:VEVENT
BEGIN:VEVENT
DTSTART;TZID=America/New_York:20270428T200000
DTEND;TZID=America/New_York:20270428T210000
DTSTAMP:20260423T050747
CREATED:20240427T232935Z
LAST-MODIFIED:20241128T020252Z
UID:10000097-1808942400-1808946000@sezf.org
SUMMARY:PR Task Force
DESCRIPTION:The main objectives of the SEZF PR Task Force are to inform the public about Narcotics Anonymous and train volunteers within our member regions. Any NA member with a desire to serve our task force is welcome to volunteer\, just join our PR Task Force virtual meeting. If you have an idea for a project\, please share it with our team. \nTopic: PR Task Force\nTime: 08:00 PM Eastern Time (US and Canada)\nEvery month on the fourth Wednesday \nJoin Zoom Meeting\nhttps://us02web.zoom.us/j/898667927 \nMeeting ID: 898 667 927
URL:https://sezf.org/event/pr-task-force/2027-04-28/
CATEGORIES:Public Relations Task Force
END:VEVENT
BEGIN:VEVENT
DTSTART;TZID=America/New_York:20270526T190000
DTEND;TZID=America/New_York:20270526T200000
DTSTAMP:20260423T050747
CREATED:20240427T231117Z
LAST-MODIFIED:20240427T231117Z
UID:10000037-1811358000-1811361600@sezf.org
SUMMARY:H&I Task Force
DESCRIPTION:Zoom Code 862 484 930
URL:https://sezf.org/event/hi-task-force/2027-05-26/
CATEGORIES:H&I Task Force
END:VEVENT
BEGIN:VEVENT
DTSTART;TZID=America/New_York:20270526T200000
DTEND;TZID=America/New_York:20270526T210000
DTSTAMP:20260423T050747
CREATED:20240427T232935Z
LAST-MODIFIED:20241128T020252Z
UID:10000098-1811361600-1811365200@sezf.org
SUMMARY:PR Task Force
DESCRIPTION:The main objectives of the SEZF PR Task Force are to inform the public about Narcotics Anonymous and train volunteers within our member regions. Any NA member with a desire to serve our task force is welcome to volunteer\, just join our PR Task Force virtual meeting. If you have an idea for a project\, please share it with our team. \nTopic: PR Task Force\nTime: 08:00 PM Eastern Time (US and Canada)\nEvery month on the fourth Wednesday \nJoin Zoom Meeting\nhttps://us02web.zoom.us/j/898667927 \nMeeting ID: 898 667 927
URL:https://sezf.org/event/pr-task-force/2027-05-26/
CATEGORIES:Public Relations Task Force
END:VEVENT
BEGIN:VEVENT
DTSTART;TZID=America/New_York:20270528T184500
DTEND;TZID=America/New_York:20270528T194500
DTSTAMP:20260423T050747
CREATED:20260423T021439Z
LAST-MODIFIED:20260423T021439Z
UID:10000223-1811529900-1811533500@sezf.org
SUMMARY:Fellowship Development Team
DESCRIPTION:Purpose: The SEZF Fellowship Development Team is here to build effective relationships with our members within our Zone and provide Fellowship services for our membership as needed. \nOur mission: To support the regions of the SEZF with mentorship\, training\, and digital support within the Zone and underserved communities. \nTopic: Symposium Workgroup \nJoin Zoom Meeting\nhttps://us02web.zoom.us/j/84827302538?pwd=53XjxFXbU84sbaJNElpp5rGHfecs3w.1 \nMeeting ID: 848 2730 2538\nPasscode: sezffd
URL:https://sezf.org/event/fellowship-development-team-2/2027-05-28/
END:VEVENT
BEGIN:VEVENT
DTSTART;TZID=America/New_York:20270623T190000
DTEND;TZID=America/New_York:20270623T200000
DTSTAMP:20260423T050747
CREATED:20240427T231117Z
LAST-MODIFIED:20240427T231117Z
UID:10000038-1813777200-1813780800@sezf.org
SUMMARY:H&I Task Force
DESCRIPTION:Zoom Code 862 484 930
URL:https://sezf.org/event/hi-task-force/2027-06-23/
CATEGORIES:H&I Task Force
END:VEVENT
BEGIN:VEVENT
DTSTART;TZID=America/New_York:20270623T200000
DTEND;TZID=America/New_York:20270623T210000
DTSTAMP:20260423T050747
CREATED:20240427T232935Z
LAST-MODIFIED:20241128T020252Z
UID:10000099-1813780800-1813784400@sezf.org
SUMMARY:PR Task Force
DESCRIPTION:The main objectives of the SEZF PR Task Force are to inform the public about Narcotics Anonymous and train volunteers within our member regions. Any NA member with a desire to serve our task force is welcome to volunteer\, just join our PR Task Force virtual meeting. If you have an idea for a project\, please share it with our team. \nTopic: PR Task Force\nTime: 08:00 PM Eastern Time (US and Canada)\nEvery month on the fourth Wednesday \nJoin Zoom Meeting\nhttps://us02web.zoom.us/j/898667927 \nMeeting ID: 898 667 927
URL:https://sezf.org/event/pr-task-force/2027-06-23/
CATEGORIES:Public Relations Task Force
END:VEVENT
BEGIN:VEVENT
DTSTART;TZID=America/New_York:20270625T184500
DTEND;TZID=America/New_York:20270625T194500
DTSTAMP:20260423T050747
CREATED:20260423T021439Z
LAST-MODIFIED:20260423T021439Z
UID:10000224-1813949100-1813952700@sezf.org
SUMMARY:Fellowship Development Team
DESCRIPTION:Purpose: The SEZF Fellowship Development Team is here to build effective relationships with our members within our Zone and provide Fellowship services for our membership as needed. \nOur mission: To support the regions of the SEZF with mentorship\, training\, and digital support within the Zone and underserved communities. \nTopic: Symposium Workgroup \nJoin Zoom Meeting\nhttps://us02web.zoom.us/j/84827302538?pwd=53XjxFXbU84sbaJNElpp5rGHfecs3w.1 \nMeeting ID: 848 2730 2538\nPasscode: sezffd
URL:https://sezf.org/event/fellowship-development-team-2/2027-06-25/
END:VEVENT
BEGIN:VEVENT
DTSTART;TZID=America/New_York:20270723T184500
DTEND;TZID=America/New_York:20270723T194500
DTSTAMP:20260423T050747
CREATED:20260423T021439Z
LAST-MODIFIED:20260423T021439Z
UID:10000225-1816368300-1816371900@sezf.org
SUMMARY:Fellowship Development Team
DESCRIPTION:Purpose: The SEZF Fellowship Development Team is here to build effective relationships with our members within our Zone and provide Fellowship services for our membership as needed. \nOur mission: To support the regions of the SEZF with mentorship\, training\, and digital support within the Zone and underserved communities. \nTopic: Symposium Workgroup \nJoin Zoom Meeting\nhttps://us02web.zoom.us/j/84827302538?pwd=53XjxFXbU84sbaJNElpp5rGHfecs3w.1 \nMeeting ID: 848 2730 2538\nPasscode: sezffd
URL:https://sezf.org/event/fellowship-development-team-2/2027-07-23/
END:VEVENT
BEGIN:VEVENT
DTSTART;TZID=America/New_York:20270728T190000
DTEND;TZID=America/New_York:20270728T200000
DTSTAMP:20260423T050747
CREATED:20240427T231117Z
LAST-MODIFIED:20240427T231117Z
UID:10000039-1816801200-1816804800@sezf.org
SUMMARY:H&I Task Force
DESCRIPTION:Zoom Code 862 484 930
URL:https://sezf.org/event/hi-task-force/2027-07-28/
CATEGORIES:H&I Task Force
END:VEVENT
BEGIN:VEVENT
DTSTART;TZID=America/New_York:20270728T200000
DTEND;TZID=America/New_York:20270728T210000
DTSTAMP:20260423T050747
CREATED:20240427T232935Z
LAST-MODIFIED:20241128T020252Z
UID:10000100-1816804800-1816808400@sezf.org
SUMMARY:PR Task Force
DESCRIPTION:The main objectives of the SEZF PR Task Force are to inform the public about Narcotics Anonymous and train volunteers within our member regions. Any NA member with a desire to serve our task force is welcome to volunteer\, just join our PR Task Force virtual meeting. If you have an idea for a project\, please share it with our team. \nTopic: PR Task Force\nTime: 08:00 PM Eastern Time (US and Canada)\nEvery month on the fourth Wednesday \nJoin Zoom Meeting\nhttps://us02web.zoom.us/j/898667927 \nMeeting ID: 898 667 927
URL:https://sezf.org/event/pr-task-force/2027-07-28/
CATEGORIES:Public Relations Task Force
END:VEVENT
BEGIN:VEVENT
DTSTART;TZID=America/New_York:20270825T190000
DTEND;TZID=America/New_York:20270825T200000
DTSTAMP:20260423T050747
CREATED:20240427T231117Z
LAST-MODIFIED:20240427T231117Z
UID:10000040-1819220400-1819224000@sezf.org
SUMMARY:H&I Task Force
DESCRIPTION:Zoom Code 862 484 930
URL:https://sezf.org/event/hi-task-force/2027-08-25/
CATEGORIES:H&I Task Force
END:VEVENT
BEGIN:VEVENT
DTSTART;TZID=America/New_York:20270825T200000
DTEND;TZID=America/New_York:20270825T210000
DTSTAMP:20260423T050747
CREATED:20240427T232935Z
LAST-MODIFIED:20241128T020252Z
UID:10000101-1819224000-1819227600@sezf.org
SUMMARY:PR Task Force
DESCRIPTION:The main objectives of the SEZF PR Task Force are to inform the public about Narcotics Anonymous and train volunteers within our member regions. Any NA member with a desire to serve our task force is welcome to volunteer\, just join our PR Task Force virtual meeting. If you have an idea for a project\, please share it with our team. \nTopic: PR Task Force\nTime: 08:00 PM Eastern Time (US and Canada)\nEvery month on the fourth Wednesday \nJoin Zoom Meeting\nhttps://us02web.zoom.us/j/898667927 \nMeeting ID: 898 667 927
URL:https://sezf.org/event/pr-task-force/2027-08-25/
CATEGORIES:Public Relations Task Force
END:VEVENT
BEGIN:VEVENT
DTSTART;TZID=America/New_York:20270827T184500
DTEND;TZID=America/New_York:20270827T194500
DTSTAMP:20260423T050747
CREATED:20260423T021439Z
LAST-MODIFIED:20260423T021439Z
UID:10000226-1819392300-1819395900@sezf.org
SUMMARY:Fellowship Development Team
DESCRIPTION:Purpose: The SEZF Fellowship Development Team is here to build effective relationships with our members within our Zone and provide Fellowship services for our membership as needed. \nOur mission: To support the regions of the SEZF with mentorship\, training\, and digital support within the Zone and underserved communities. \nTopic: Symposium Workgroup \nJoin Zoom Meeting\nhttps://us02web.zoom.us/j/84827302538?pwd=53XjxFXbU84sbaJNElpp5rGHfecs3w.1 \nMeeting ID: 848 2730 2538\nPasscode: sezffd
URL:https://sezf.org/event/fellowship-development-team-2/2027-08-27/
END:VEVENT
BEGIN:VEVENT
DTSTART;TZID=America/New_York:20270922T190000
DTEND;TZID=America/New_York:20270922T200000
DTSTAMP:20260423T050747
CREATED:20240427T231117Z
LAST-MODIFIED:20240427T231117Z
UID:10000041-1821639600-1821643200@sezf.org
SUMMARY:H&I Task Force
DESCRIPTION:Zoom Code 862 484 930
URL:https://sezf.org/event/hi-task-force/2027-09-22/
CATEGORIES:H&I Task Force
END:VEVENT
BEGIN:VEVENT
DTSTART;TZID=America/New_York:20270922T200000
DTEND;TZID=America/New_York:20270922T210000
DTSTAMP:20260423T050747
CREATED:20240427T232935Z
LAST-MODIFIED:20241128T020252Z
UID:10000102-1821643200-1821646800@sezf.org
SUMMARY:PR Task Force
DESCRIPTION:The main objectives of the SEZF PR Task Force are to inform the public about Narcotics Anonymous and train volunteers within our member regions. Any NA member with a desire to serve our task force is welcome to volunteer\, just join our PR Task Force virtual meeting. If you have an idea for a project\, please share it with our team. \nTopic: PR Task Force\nTime: 08:00 PM Eastern Time (US and Canada)\nEvery month on the fourth Wednesday \nJoin Zoom Meeting\nhttps://us02web.zoom.us/j/898667927 \nMeeting ID: 898 667 927
URL:https://sezf.org/event/pr-task-force/2027-09-22/
CATEGORIES:Public Relations Task Force
END:VEVENT
BEGIN:VEVENT
DTSTART;TZID=America/New_York:20270924T184500
DTEND;TZID=America/New_York:20270924T194500
DTSTAMP:20260423T050747
CREATED:20260423T021439Z
LAST-MODIFIED:20260423T021439Z
UID:10000227-1821811500-1821815100@sezf.org
SUMMARY:Fellowship Development Team
DESCRIPTION:Purpose: The SEZF Fellowship Development Team is here to build effective relationships with our members within our Zone and provide Fellowship services for our membership as needed. \nOur mission: To support the regions of the SEZF with mentorship\, training\, and digital support within the Zone and underserved communities. \nTopic: Symposium Workgroup \nJoin Zoom Meeting\nhttps://us02web.zoom.us/j/84827302538?pwd=53XjxFXbU84sbaJNElpp5rGHfecs3w.1 \nMeeting ID: 848 2730 2538\nPasscode: sezffd
URL:https://sezf.org/event/fellowship-development-team-2/2027-09-24/
END:VEVENT
BEGIN:VEVENT
DTSTART;TZID=America/New_York:20271022T184500
DTEND;TZID=America/New_York:20271022T194500
DTSTAMP:20260423T050747
CREATED:20260423T021439Z
LAST-MODIFIED:20260423T021439Z
UID:10000228-1824230700-1824234300@sezf.org
SUMMARY:Fellowship Development Team
DESCRIPTION:Purpose: The SEZF Fellowship Development Team is here to build effective relationships with our members within our Zone and provide Fellowship services for our membership as needed. \nOur mission: To support the regions of the SEZF with mentorship\, training\, and digital support within the Zone and underserved communities. \nTopic: Symposium Workgroup \nJoin Zoom Meeting\nhttps://us02web.zoom.us/j/84827302538?pwd=53XjxFXbU84sbaJNElpp5rGHfecs3w.1 \nMeeting ID: 848 2730 2538\nPasscode: sezffd
URL:https://sezf.org/event/fellowship-development-team-2/2027-10-22/
END:VEVENT
BEGIN:VEVENT
DTSTART;TZID=America/New_York:20271027T190000
DTEND;TZID=America/New_York:20271027T200000
DTSTAMP:20260423T050747
CREATED:20240427T231117Z
LAST-MODIFIED:20240427T231117Z
UID:10000042-1824663600-1824667200@sezf.org
SUMMARY:H&I Task Force
DESCRIPTION:Zoom Code 862 484 930
URL:https://sezf.org/event/hi-task-force/2027-10-27/
CATEGORIES:H&I Task Force
END:VEVENT
END:VCALENDAR