BEGIN:VCALENDAR
VERSION:2.0
PRODID:-//Southeastern Zonal Forum - ECPv6.14.2//NONSGML v1.0//EN
CALSCALE:GREGORIAN
METHOD:PUBLISH
X-ORIGINAL-URL:https://sezf.org
X-WR-CALDESC:Events for Southeastern Zonal Forum
REFRESH-INTERVAL;VALUE=DURATION:PT1H
X-Robots-Tag:noindex
X-PUBLISHED-TTL:PT1H
BEGIN:VTIMEZONE
TZID:America/New_York
BEGIN:DAYLIGHT
TZOFFSETFROM:-0500
TZOFFSETTO:-0400
TZNAME:EDT
DTSTART:20300310T070000
END:DAYLIGHT
BEGIN:STANDARD
TZOFFSETFROM:-0400
TZOFFSETTO:-0500
TZNAME:EST
DTSTART:20301103T060000
END:STANDARD
BEGIN:DAYLIGHT
TZOFFSETFROM:-0500
TZOFFSETTO:-0400
TZNAME:EDT
DTSTART:20310309T070000
END:DAYLIGHT
BEGIN:STANDARD
TZOFFSETFROM:-0400
TZOFFSETTO:-0500
TZNAME:EST
DTSTART:20311102T060000
END:STANDARD
END:VTIMEZONE
BEGIN:VEVENT
DTSTART;TZID=America/New_York:20300515T184500
DTEND;TZID=America/New_York:20300515T194500
DTSTAMP:20260424T215328
CREATED:20260425T014907Z
LAST-MODIFIED:20260425T014908Z
UID:10000317-1905101100-1905104700@sezf.org
SUMMARY:Fellowship Development Team
DESCRIPTION:Purpose: The SEZF Fellowship Development Team is here to build effective relationships with our members within our Zone and provide Fellowship services for our membership as needed. \nOur mission: To support the regions of the SEZF with mentorship\, training\, and digital support within the Zone and underserved communities. \nTopic: Symposium Workgroup \nJoin Zoom Meeting\nhttps://us02web.zoom.us/j/84827302538?pwd=53XjxFXbU84sbaJNElpp5rGHfecs3w.1 \nMeeting ID: 848 2730 2538\nPasscode: sezffd
URL:https://sezf.org/event/fellowship-development-team-2-2/2030-05-15/
END:VEVENT
BEGIN:VEVENT
DTSTART;TZID=America/New_York:20300619T184500
DTEND;TZID=America/New_York:20300619T194500
DTSTAMP:20260424T215328
CREATED:20260425T014907Z
LAST-MODIFIED:20260425T014908Z
UID:10000318-1908125100-1908128700@sezf.org
SUMMARY:Fellowship Development Team
DESCRIPTION:Purpose: The SEZF Fellowship Development Team is here to build effective relationships with our members within our Zone and provide Fellowship services for our membership as needed. \nOur mission: To support the regions of the SEZF with mentorship\, training\, and digital support within the Zone and underserved communities. \nTopic: Symposium Workgroup \nJoin Zoom Meeting\nhttps://us02web.zoom.us/j/84827302538?pwd=53XjxFXbU84sbaJNElpp5rGHfecs3w.1 \nMeeting ID: 848 2730 2538\nPasscode: sezffd
URL:https://sezf.org/event/fellowship-development-team-2-2/2030-06-19/
END:VEVENT
BEGIN:VEVENT
DTSTART;TZID=America/New_York:20300717T184500
DTEND;TZID=America/New_York:20300717T194500
DTSTAMP:20260424T215328
CREATED:20260425T014907Z
LAST-MODIFIED:20260425T014908Z
UID:10000319-1910544300-1910547900@sezf.org
SUMMARY:Fellowship Development Team
DESCRIPTION:Purpose: The SEZF Fellowship Development Team is here to build effective relationships with our members within our Zone and provide Fellowship services for our membership as needed. \nOur mission: To support the regions of the SEZF with mentorship\, training\, and digital support within the Zone and underserved communities. \nTopic: Symposium Workgroup \nJoin Zoom Meeting\nhttps://us02web.zoom.us/j/84827302538?pwd=53XjxFXbU84sbaJNElpp5rGHfecs3w.1 \nMeeting ID: 848 2730 2538\nPasscode: sezffd
URL:https://sezf.org/event/fellowship-development-team-2-2/2030-07-17/
END:VEVENT
BEGIN:VEVENT
DTSTART;TZID=America/New_York:20300821T184500
DTEND;TZID=America/New_York:20300821T194500
DTSTAMP:20260424T215328
CREATED:20260425T014907Z
LAST-MODIFIED:20260425T014908Z
UID:10000320-1913568300-1913571900@sezf.org
SUMMARY:Fellowship Development Team
DESCRIPTION:Purpose: The SEZF Fellowship Development Team is here to build effective relationships with our members within our Zone and provide Fellowship services for our membership as needed. \nOur mission: To support the regions of the SEZF with mentorship\, training\, and digital support within the Zone and underserved communities. \nTopic: Symposium Workgroup \nJoin Zoom Meeting\nhttps://us02web.zoom.us/j/84827302538?pwd=53XjxFXbU84sbaJNElpp5rGHfecs3w.1 \nMeeting ID: 848 2730 2538\nPasscode: sezffd
URL:https://sezf.org/event/fellowship-development-team-2-2/2030-08-21/
END:VEVENT
BEGIN:VEVENT
DTSTART;TZID=America/New_York:20300918T184500
DTEND;TZID=America/New_York:20300918T194500
DTSTAMP:20260424T215328
CREATED:20260425T014907Z
LAST-MODIFIED:20260425T014908Z
UID:10000321-1915987500-1915991100@sezf.org
SUMMARY:Fellowship Development Team
DESCRIPTION:Purpose: The SEZF Fellowship Development Team is here to build effective relationships with our members within our Zone and provide Fellowship services for our membership as needed. \nOur mission: To support the regions of the SEZF with mentorship\, training\, and digital support within the Zone and underserved communities. \nTopic: Symposium Workgroup \nJoin Zoom Meeting\nhttps://us02web.zoom.us/j/84827302538?pwd=53XjxFXbU84sbaJNElpp5rGHfecs3w.1 \nMeeting ID: 848 2730 2538\nPasscode: sezffd
URL:https://sezf.org/event/fellowship-development-team-2-2/2030-09-18/
END:VEVENT
BEGIN:VEVENT
DTSTART;TZID=America/New_York:20301016T184500
DTEND;TZID=America/New_York:20301016T194500
DTSTAMP:20260424T215328
CREATED:20260425T014907Z
LAST-MODIFIED:20260425T014908Z
UID:10000322-1918406700-1918410300@sezf.org
SUMMARY:Fellowship Development Team
DESCRIPTION:Purpose: The SEZF Fellowship Development Team is here to build effective relationships with our members within our Zone and provide Fellowship services for our membership as needed. \nOur mission: To support the regions of the SEZF with mentorship\, training\, and digital support within the Zone and underserved communities. \nTopic: Symposium Workgroup \nJoin Zoom Meeting\nhttps://us02web.zoom.us/j/84827302538?pwd=53XjxFXbU84sbaJNElpp5rGHfecs3w.1 \nMeeting ID: 848 2730 2538\nPasscode: sezffd
URL:https://sezf.org/event/fellowship-development-team-2-2/2030-10-16/
END:VEVENT
BEGIN:VEVENT
DTSTART;TZID=America/New_York:20301120T184500
DTEND;TZID=America/New_York:20301120T194500
DTSTAMP:20260424T215328
CREATED:20260425T014907Z
LAST-MODIFIED:20260425T014908Z
UID:10000323-1921430700-1921434300@sezf.org
SUMMARY:Fellowship Development Team
DESCRIPTION:Purpose: The SEZF Fellowship Development Team is here to build effective relationships with our members within our Zone and provide Fellowship services for our membership as needed. \nOur mission: To support the regions of the SEZF with mentorship\, training\, and digital support within the Zone and underserved communities. \nTopic: Symposium Workgroup \nJoin Zoom Meeting\nhttps://us02web.zoom.us/j/84827302538?pwd=53XjxFXbU84sbaJNElpp5rGHfecs3w.1 \nMeeting ID: 848 2730 2538\nPasscode: sezffd
URL:https://sezf.org/event/fellowship-development-team-2-2/2030-11-20/
END:VEVENT
BEGIN:VEVENT
DTSTART;TZID=America/New_York:20301218T184500
DTEND;TZID=America/New_York:20301218T194500
DTSTAMP:20260424T215328
CREATED:20260425T014907Z
LAST-MODIFIED:20260425T014908Z
UID:10000324-1923849900-1923853500@sezf.org
SUMMARY:Fellowship Development Team
DESCRIPTION:Purpose: The SEZF Fellowship Development Team is here to build effective relationships with our members within our Zone and provide Fellowship services for our membership as needed. \nOur mission: To support the regions of the SEZF with mentorship\, training\, and digital support within the Zone and underserved communities. \nTopic: Symposium Workgroup \nJoin Zoom Meeting\nhttps://us02web.zoom.us/j/84827302538?pwd=53XjxFXbU84sbaJNElpp5rGHfecs3w.1 \nMeeting ID: 848 2730 2538\nPasscode: sezffd
URL:https://sezf.org/event/fellowship-development-team-2-2/2030-12-18/
END:VEVENT
BEGIN:VEVENT
DTSTART;TZID=America/New_York:20310115T184500
DTEND;TZID=America/New_York:20310115T194500
DTSTAMP:20260424T215328
CREATED:20260425T014907Z
LAST-MODIFIED:20260425T014908Z
UID:10000325-1926269100-1926272700@sezf.org
SUMMARY:Fellowship Development Team
DESCRIPTION:Purpose: The SEZF Fellowship Development Team is here to build effective relationships with our members within our Zone and provide Fellowship services for our membership as needed. \nOur mission: To support the regions of the SEZF with mentorship\, training\, and digital support within the Zone and underserved communities. \nTopic: Symposium Workgroup \nJoin Zoom Meeting\nhttps://us02web.zoom.us/j/84827302538?pwd=53XjxFXbU84sbaJNElpp5rGHfecs3w.1 \nMeeting ID: 848 2730 2538\nPasscode: sezffd
URL:https://sezf.org/event/fellowship-development-team-2-2/2031-01-15/
END:VEVENT
BEGIN:VEVENT
DTSTART;TZID=America/New_York:20310219T184500
DTEND;TZID=America/New_York:20310219T194500
DTSTAMP:20260424T215328
CREATED:20260425T014907Z
LAST-MODIFIED:20260425T014908Z
UID:10000326-1929293100-1929296700@sezf.org
SUMMARY:Fellowship Development Team
DESCRIPTION:Purpose: The SEZF Fellowship Development Team is here to build effective relationships with our members within our Zone and provide Fellowship services for our membership as needed. \nOur mission: To support the regions of the SEZF with mentorship\, training\, and digital support within the Zone and underserved communities. \nTopic: Symposium Workgroup \nJoin Zoom Meeting\nhttps://us02web.zoom.us/j/84827302538?pwd=53XjxFXbU84sbaJNElpp5rGHfecs3w.1 \nMeeting ID: 848 2730 2538\nPasscode: sezffd
URL:https://sezf.org/event/fellowship-development-team-2-2/2031-02-19/
END:VEVENT
BEGIN:VEVENT
DTSTART;TZID=America/New_York:20310319T184500
DTEND;TZID=America/New_York:20310319T194500
DTSTAMP:20260424T215328
CREATED:20260425T014907Z
LAST-MODIFIED:20260425T014908Z
UID:10000327-1931712300-1931715900@sezf.org
SUMMARY:Fellowship Development Team
DESCRIPTION:Purpose: The SEZF Fellowship Development Team is here to build effective relationships with our members within our Zone and provide Fellowship services for our membership as needed. \nOur mission: To support the regions of the SEZF with mentorship\, training\, and digital support within the Zone and underserved communities. \nTopic: Symposium Workgroup \nJoin Zoom Meeting\nhttps://us02web.zoom.us/j/84827302538?pwd=53XjxFXbU84sbaJNElpp5rGHfecs3w.1 \nMeeting ID: 848 2730 2538\nPasscode: sezffd
URL:https://sezf.org/event/fellowship-development-team-2-2/2031-03-19/
END:VEVENT
BEGIN:VEVENT
DTSTART;TZID=America/New_York:20310416T184500
DTEND;TZID=America/New_York:20310416T194500
DTSTAMP:20260424T215328
CREATED:20260425T014907Z
LAST-MODIFIED:20260425T014908Z
UID:10000328-1934131500-1934135100@sezf.org
SUMMARY:Fellowship Development Team
DESCRIPTION:Purpose: The SEZF Fellowship Development Team is here to build effective relationships with our members within our Zone and provide Fellowship services for our membership as needed. \nOur mission: To support the regions of the SEZF with mentorship\, training\, and digital support within the Zone and underserved communities. \nTopic: Symposium Workgroup \nJoin Zoom Meeting\nhttps://us02web.zoom.us/j/84827302538?pwd=53XjxFXbU84sbaJNElpp5rGHfecs3w.1 \nMeeting ID: 848 2730 2538\nPasscode: sezffd
URL:https://sezf.org/event/fellowship-development-team-2-2/2031-04-16/
END:VEVENT
END:VCALENDAR