BEGIN:VCALENDAR
VERSION:2.0
PRODID:-//Southeastern Zonal Forum - ECPv6.14.2//NONSGML v1.0//EN
CALSCALE:GREGORIAN
METHOD:PUBLISH
X-ORIGINAL-URL:https://sezf.org
X-WR-CALDESC:Events for Southeastern Zonal Forum
REFRESH-INTERVAL;VALUE=DURATION:PT1H
X-Robots-Tag:noindex
X-PUBLISHED-TTL:PT1H
BEGIN:VTIMEZONE
TZID:America/New_York
BEGIN:DAYLIGHT
TZOFFSETFROM:-0500
TZOFFSETTO:-0400
TZNAME:EDT
DTSTART:20290311T070000
END:DAYLIGHT
BEGIN:STANDARD
TZOFFSETFROM:-0400
TZOFFSETTO:-0500
TZNAME:EST
DTSTART:20291104T060000
END:STANDARD
BEGIN:DAYLIGHT
TZOFFSETFROM:-0500
TZOFFSETTO:-0400
TZNAME:EDT
DTSTART:20300310T070000
END:DAYLIGHT
BEGIN:STANDARD
TZOFFSETFROM:-0400
TZOFFSETTO:-0500
TZNAME:EST
DTSTART:20301103T060000
END:STANDARD
BEGIN:DAYLIGHT
TZOFFSETFROM:-0500
TZOFFSETTO:-0400
TZNAME:EDT
DTSTART:20310309T070000
END:DAYLIGHT
BEGIN:STANDARD
TZOFFSETFROM:-0400
TZOFFSETTO:-0500
TZNAME:EST
DTSTART:20311102T060000
END:STANDARD
END:VTIMEZONE
BEGIN:VEVENT
DTSTART;TZID=America/New_York:20290725T184500
DTEND;TZID=America/New_York:20290725T194500
DTSTAMP:20260425T112324
CREATED:20260425T014907Z
LAST-MODIFIED:20260425T015407Z
UID:10000367-1879699500-1879703100@sezf.org
SUMMARY:Fellowship Development Team
DESCRIPTION:Purpose: The SEZF Fellowship Development Team is here to build effective relationships with our members within our Zone and provide Fellowship services for our membership as needed. \nOur mission: To support the regions of the SEZF with mentorship\, training\, and digital support within the Zone and underserved communities. \nTopic: Symposium Workgroup \nJoin Zoom Meeting\nhttps://us02web.zoom.us/j/84827302538?pwd=53XjxFXbU84sbaJNElpp5rGHfecs3w.1 \nMeeting ID: 848 2730 2538\nPasscode: sezffd
URL:https://sezf.org/event/fellowship-development-team-2-2/2029-07-25/
END:VEVENT
BEGIN:VEVENT
DTSTART;TZID=America/New_York:20290725T200000
DTEND;TZID=America/New_York:20290725T210000
DTSTAMP:20260425T112324
CREATED:20240427T232935Z
LAST-MODIFIED:20241128T020252Z
UID:10000127-1879704000-1879707600@sezf.org
SUMMARY:PR Task Force
DESCRIPTION:The main objectives of the SEZF PR Task Force are to inform the public about Narcotics Anonymous and train volunteers within our member regions. Any NA member with a desire to serve our task force is welcome to volunteer\, just join our PR Task Force virtual meeting. If you have an idea for a project\, please share it with our team. \nTopic: PR Task Force\nTime: 08:00 PM Eastern Time (US and Canada)\nEvery month on the fourth Wednesday \nJoin Zoom Meeting\nhttps://us02web.zoom.us/j/898667927 \nMeeting ID: 898 667 927
URL:https://sezf.org/event/pr-task-force/2029-07-25/
CATEGORIES:Public Relations Task Force
END:VEVENT
BEGIN:VEVENT
DTSTART;TZID=America/New_York:20290822T184500
DTEND;TZID=America/New_York:20290822T194500
DTSTAMP:20260425T112324
CREATED:20260425T014907Z
LAST-MODIFIED:20260425T015407Z
UID:10000368-1882118700-1882122300@sezf.org
SUMMARY:Fellowship Development Team
DESCRIPTION:Purpose: The SEZF Fellowship Development Team is here to build effective relationships with our members within our Zone and provide Fellowship services for our membership as needed. \nOur mission: To support the regions of the SEZF with mentorship\, training\, and digital support within the Zone and underserved communities. \nTopic: Symposium Workgroup \nJoin Zoom Meeting\nhttps://us02web.zoom.us/j/84827302538?pwd=53XjxFXbU84sbaJNElpp5rGHfecs3w.1 \nMeeting ID: 848 2730 2538\nPasscode: sezffd
URL:https://sezf.org/event/fellowship-development-team-2-2/2029-08-22/
END:VEVENT
BEGIN:VEVENT
DTSTART;TZID=America/New_York:20290822T200000
DTEND;TZID=America/New_York:20290822T210000
DTSTAMP:20260425T112324
CREATED:20240427T232935Z
LAST-MODIFIED:20241128T020252Z
UID:10000128-1882123200-1882126800@sezf.org
SUMMARY:PR Task Force
DESCRIPTION:The main objectives of the SEZF PR Task Force are to inform the public about Narcotics Anonymous and train volunteers within our member regions. Any NA member with a desire to serve our task force is welcome to volunteer\, just join our PR Task Force virtual meeting. If you have an idea for a project\, please share it with our team. \nTopic: PR Task Force\nTime: 08:00 PM Eastern Time (US and Canada)\nEvery month on the fourth Wednesday \nJoin Zoom Meeting\nhttps://us02web.zoom.us/j/898667927 \nMeeting ID: 898 667 927
URL:https://sezf.org/event/pr-task-force/2029-08-22/
CATEGORIES:Public Relations Task Force
END:VEVENT
BEGIN:VEVENT
DTSTART;TZID=America/New_York:20290926T184500
DTEND;TZID=America/New_York:20290926T194500
DTSTAMP:20260425T112324
CREATED:20260425T014907Z
LAST-MODIFIED:20260425T015407Z
UID:10000369-1885142700-1885146300@sezf.org
SUMMARY:Fellowship Development Team
DESCRIPTION:Purpose: The SEZF Fellowship Development Team is here to build effective relationships with our members within our Zone and provide Fellowship services for our membership as needed. \nOur mission: To support the regions of the SEZF with mentorship\, training\, and digital support within the Zone and underserved communities. \nTopic: Symposium Workgroup \nJoin Zoom Meeting\nhttps://us02web.zoom.us/j/84827302538?pwd=53XjxFXbU84sbaJNElpp5rGHfecs3w.1 \nMeeting ID: 848 2730 2538\nPasscode: sezffd
URL:https://sezf.org/event/fellowship-development-team-2-2/2029-09-26/
END:VEVENT
BEGIN:VEVENT
DTSTART;TZID=America/New_York:20290926T200000
DTEND;TZID=America/New_York:20290926T210000
DTSTAMP:20260425T112324
CREATED:20240427T232935Z
LAST-MODIFIED:20241128T020252Z
UID:10000129-1885147200-1885150800@sezf.org
SUMMARY:PR Task Force
DESCRIPTION:The main objectives of the SEZF PR Task Force are to inform the public about Narcotics Anonymous and train volunteers within our member regions. Any NA member with a desire to serve our task force is welcome to volunteer\, just join our PR Task Force virtual meeting. If you have an idea for a project\, please share it with our team. \nTopic: PR Task Force\nTime: 08:00 PM Eastern Time (US and Canada)\nEvery month on the fourth Wednesday \nJoin Zoom Meeting\nhttps://us02web.zoom.us/j/898667927 \nMeeting ID: 898 667 927
URL:https://sezf.org/event/pr-task-force/2029-09-26/
CATEGORIES:Public Relations Task Force
END:VEVENT
BEGIN:VEVENT
DTSTART;TZID=America/New_York:20291024T184500
DTEND;TZID=America/New_York:20291024T194500
DTSTAMP:20260425T112324
CREATED:20260425T014907Z
LAST-MODIFIED:20260425T015407Z
UID:10000370-1887561900-1887565500@sezf.org
SUMMARY:Fellowship Development Team
DESCRIPTION:Purpose: The SEZF Fellowship Development Team is here to build effective relationships with our members within our Zone and provide Fellowship services for our membership as needed. \nOur mission: To support the regions of the SEZF with mentorship\, training\, and digital support within the Zone and underserved communities. \nTopic: Symposium Workgroup \nJoin Zoom Meeting\nhttps://us02web.zoom.us/j/84827302538?pwd=53XjxFXbU84sbaJNElpp5rGHfecs3w.1 \nMeeting ID: 848 2730 2538\nPasscode: sezffd
URL:https://sezf.org/event/fellowship-development-team-2-2/2029-10-24/
END:VEVENT
BEGIN:VEVENT
DTSTART;TZID=America/New_York:20291024T200000
DTEND;TZID=America/New_York:20291024T210000
DTSTAMP:20260425T112324
CREATED:20240427T232935Z
LAST-MODIFIED:20241128T020252Z
UID:10000130-1887566400-1887570000@sezf.org
SUMMARY:PR Task Force
DESCRIPTION:The main objectives of the SEZF PR Task Force are to inform the public about Narcotics Anonymous and train volunteers within our member regions. Any NA member with a desire to serve our task force is welcome to volunteer\, just join our PR Task Force virtual meeting. If you have an idea for a project\, please share it with our team. \nTopic: PR Task Force\nTime: 08:00 PM Eastern Time (US and Canada)\nEvery month on the fourth Wednesday \nJoin Zoom Meeting\nhttps://us02web.zoom.us/j/898667927 \nMeeting ID: 898 667 927
URL:https://sezf.org/event/pr-task-force/2029-10-24/
CATEGORIES:Public Relations Task Force
END:VEVENT
BEGIN:VEVENT
DTSTART;TZID=America/New_York:20291128T184500
DTEND;TZID=America/New_York:20291128T194500
DTSTAMP:20260425T112324
CREATED:20260425T014907Z
LAST-MODIFIED:20260425T015407Z
UID:10000371-1890585900-1890589500@sezf.org
SUMMARY:Fellowship Development Team
DESCRIPTION:Purpose: The SEZF Fellowship Development Team is here to build effective relationships with our members within our Zone and provide Fellowship services for our membership as needed. \nOur mission: To support the regions of the SEZF with mentorship\, training\, and digital support within the Zone and underserved communities. \nTopic: Symposium Workgroup \nJoin Zoom Meeting\nhttps://us02web.zoom.us/j/84827302538?pwd=53XjxFXbU84sbaJNElpp5rGHfecs3w.1 \nMeeting ID: 848 2730 2538\nPasscode: sezffd
URL:https://sezf.org/event/fellowship-development-team-2-2/2029-11-28/
END:VEVENT
BEGIN:VEVENT
DTSTART;TZID=America/New_York:20291226T184500
DTEND;TZID=America/New_York:20291226T194500
DTSTAMP:20260425T112324
CREATED:20260425T014907Z
LAST-MODIFIED:20260425T015407Z
UID:10000372-1893005100-1893008700@sezf.org
SUMMARY:Fellowship Development Team
DESCRIPTION:Purpose: The SEZF Fellowship Development Team is here to build effective relationships with our members within our Zone and provide Fellowship services for our membership as needed. \nOur mission: To support the regions of the SEZF with mentorship\, training\, and digital support within the Zone and underserved communities. \nTopic: Symposium Workgroup \nJoin Zoom Meeting\nhttps://us02web.zoom.us/j/84827302538?pwd=53XjxFXbU84sbaJNElpp5rGHfecs3w.1 \nMeeting ID: 848 2730 2538\nPasscode: sezffd
URL:https://sezf.org/event/fellowship-development-team-2-2/2029-12-26/
END:VEVENT
BEGIN:VEVENT
DTSTART;TZID=America/New_York:20300123T184500
DTEND;TZID=America/New_York:20300123T194500
DTSTAMP:20260425T112324
CREATED:20260425T014907Z
LAST-MODIFIED:20260425T015407Z
UID:10000373-1895424300-1895427900@sezf.org
SUMMARY:Fellowship Development Team
DESCRIPTION:Purpose: The SEZF Fellowship Development Team is here to build effective relationships with our members within our Zone and provide Fellowship services for our membership as needed. \nOur mission: To support the regions of the SEZF with mentorship\, training\, and digital support within the Zone and underserved communities. \nTopic: Symposium Workgroup \nJoin Zoom Meeting\nhttps://us02web.zoom.us/j/84827302538?pwd=53XjxFXbU84sbaJNElpp5rGHfecs3w.1 \nMeeting ID: 848 2730 2538\nPasscode: sezffd
URL:https://sezf.org/event/fellowship-development-team-2-2/2030-01-23/
END:VEVENT
BEGIN:VEVENT
DTSTART;TZID=America/New_York:20300227T184500
DTEND;TZID=America/New_York:20300227T194500
DTSTAMP:20260425T112324
CREATED:20260425T014907Z
LAST-MODIFIED:20260425T015407Z
UID:10000374-1898448300-1898451900@sezf.org
SUMMARY:Fellowship Development Team
DESCRIPTION:Purpose: The SEZF Fellowship Development Team is here to build effective relationships with our members within our Zone and provide Fellowship services for our membership as needed. \nOur mission: To support the regions of the SEZF with mentorship\, training\, and digital support within the Zone and underserved communities. \nTopic: Symposium Workgroup \nJoin Zoom Meeting\nhttps://us02web.zoom.us/j/84827302538?pwd=53XjxFXbU84sbaJNElpp5rGHfecs3w.1 \nMeeting ID: 848 2730 2538\nPasscode: sezffd
URL:https://sezf.org/event/fellowship-development-team-2-2/2030-02-27/
END:VEVENT
BEGIN:VEVENT
DTSTART;TZID=America/New_York:20300327T184500
DTEND;TZID=America/New_York:20300327T194500
DTSTAMP:20260425T112324
CREATED:20260425T014907Z
LAST-MODIFIED:20260425T015407Z
UID:10000375-1900867500-1900871100@sezf.org
SUMMARY:Fellowship Development Team
DESCRIPTION:Purpose: The SEZF Fellowship Development Team is here to build effective relationships with our members within our Zone and provide Fellowship services for our membership as needed. \nOur mission: To support the regions of the SEZF with mentorship\, training\, and digital support within the Zone and underserved communities. \nTopic: Symposium Workgroup \nJoin Zoom Meeting\nhttps://us02web.zoom.us/j/84827302538?pwd=53XjxFXbU84sbaJNElpp5rGHfecs3w.1 \nMeeting ID: 848 2730 2538\nPasscode: sezffd
URL:https://sezf.org/event/fellowship-development-team-2-2/2030-03-27/
END:VEVENT
BEGIN:VEVENT
DTSTART;TZID=America/New_York:20300424T184500
DTEND;TZID=America/New_York:20300424T194500
DTSTAMP:20260425T112324
CREATED:20260425T014907Z
LAST-MODIFIED:20260425T015407Z
UID:10000376-1903286700-1903290300@sezf.org
SUMMARY:Fellowship Development Team
DESCRIPTION:Purpose: The SEZF Fellowship Development Team is here to build effective relationships with our members within our Zone and provide Fellowship services for our membership as needed. \nOur mission: To support the regions of the SEZF with mentorship\, training\, and digital support within the Zone and underserved communities. \nTopic: Symposium Workgroup \nJoin Zoom Meeting\nhttps://us02web.zoom.us/j/84827302538?pwd=53XjxFXbU84sbaJNElpp5rGHfecs3w.1 \nMeeting ID: 848 2730 2538\nPasscode: sezffd
URL:https://sezf.org/event/fellowship-development-team-2-2/2030-04-24/
END:VEVENT
BEGIN:VEVENT
DTSTART;TZID=America/New_York:20300522T184500
DTEND;TZID=America/New_York:20300522T194500
DTSTAMP:20260425T112324
CREATED:20260425T014907Z
LAST-MODIFIED:20260425T015407Z
UID:10000377-1905705900-1905709500@sezf.org
SUMMARY:Fellowship Development Team
DESCRIPTION:Purpose: The SEZF Fellowship Development Team is here to build effective relationships with our members within our Zone and provide Fellowship services for our membership as needed. \nOur mission: To support the regions of the SEZF with mentorship\, training\, and digital support within the Zone and underserved communities. \nTopic: Symposium Workgroup \nJoin Zoom Meeting\nhttps://us02web.zoom.us/j/84827302538?pwd=53XjxFXbU84sbaJNElpp5rGHfecs3w.1 \nMeeting ID: 848 2730 2538\nPasscode: sezffd
URL:https://sezf.org/event/fellowship-development-team-2-2/2030-05-22/
END:VEVENT
BEGIN:VEVENT
DTSTART;TZID=America/New_York:20300626T184500
DTEND;TZID=America/New_York:20300626T194500
DTSTAMP:20260425T112324
CREATED:20260425T014907Z
LAST-MODIFIED:20260425T015407Z
UID:10000378-1908729900-1908733500@sezf.org
SUMMARY:Fellowship Development Team
DESCRIPTION:Purpose: The SEZF Fellowship Development Team is here to build effective relationships with our members within our Zone and provide Fellowship services for our membership as needed. \nOur mission: To support the regions of the SEZF with mentorship\, training\, and digital support within the Zone and underserved communities. \nTopic: Symposium Workgroup \nJoin Zoom Meeting\nhttps://us02web.zoom.us/j/84827302538?pwd=53XjxFXbU84sbaJNElpp5rGHfecs3w.1 \nMeeting ID: 848 2730 2538\nPasscode: sezffd
URL:https://sezf.org/event/fellowship-development-team-2-2/2030-06-26/
END:VEVENT
BEGIN:VEVENT
DTSTART;TZID=America/New_York:20300724T184500
DTEND;TZID=America/New_York:20300724T194500
DTSTAMP:20260425T112324
CREATED:20260425T014907Z
LAST-MODIFIED:20260425T015407Z
UID:10000379-1911149100-1911152700@sezf.org
SUMMARY:Fellowship Development Team
DESCRIPTION:Purpose: The SEZF Fellowship Development Team is here to build effective relationships with our members within our Zone and provide Fellowship services for our membership as needed. \nOur mission: To support the regions of the SEZF with mentorship\, training\, and digital support within the Zone and underserved communities. \nTopic: Symposium Workgroup \nJoin Zoom Meeting\nhttps://us02web.zoom.us/j/84827302538?pwd=53XjxFXbU84sbaJNElpp5rGHfecs3w.1 \nMeeting ID: 848 2730 2538\nPasscode: sezffd
URL:https://sezf.org/event/fellowship-development-team-2-2/2030-07-24/
END:VEVENT
BEGIN:VEVENT
DTSTART;TZID=America/New_York:20300828T184500
DTEND;TZID=America/New_York:20300828T194500
DTSTAMP:20260425T112324
CREATED:20260425T014907Z
LAST-MODIFIED:20260425T015407Z
UID:10000380-1914173100-1914176700@sezf.org
SUMMARY:Fellowship Development Team
DESCRIPTION:Purpose: The SEZF Fellowship Development Team is here to build effective relationships with our members within our Zone and provide Fellowship services for our membership as needed. \nOur mission: To support the regions of the SEZF with mentorship\, training\, and digital support within the Zone and underserved communities. \nTopic: Symposium Workgroup \nJoin Zoom Meeting\nhttps://us02web.zoom.us/j/84827302538?pwd=53XjxFXbU84sbaJNElpp5rGHfecs3w.1 \nMeeting ID: 848 2730 2538\nPasscode: sezffd
URL:https://sezf.org/event/fellowship-development-team-2-2/2030-08-28/
END:VEVENT
BEGIN:VEVENT
DTSTART;TZID=America/New_York:20300925T184500
DTEND;TZID=America/New_York:20300925T194500
DTSTAMP:20260425T112324
CREATED:20260425T014907Z
LAST-MODIFIED:20260425T015407Z
UID:10000381-1916592300-1916595900@sezf.org
SUMMARY:Fellowship Development Team
DESCRIPTION:Purpose: The SEZF Fellowship Development Team is here to build effective relationships with our members within our Zone and provide Fellowship services for our membership as needed. \nOur mission: To support the regions of the SEZF with mentorship\, training\, and digital support within the Zone and underserved communities. \nTopic: Symposium Workgroup \nJoin Zoom Meeting\nhttps://us02web.zoom.us/j/84827302538?pwd=53XjxFXbU84sbaJNElpp5rGHfecs3w.1 \nMeeting ID: 848 2730 2538\nPasscode: sezffd
URL:https://sezf.org/event/fellowship-development-team-2-2/2030-09-25/
END:VEVENT
BEGIN:VEVENT
DTSTART;TZID=America/New_York:20301023T184500
DTEND;TZID=America/New_York:20301023T194500
DTSTAMP:20260425T112324
CREATED:20260425T014907Z
LAST-MODIFIED:20260425T015407Z
UID:10000382-1919011500-1919015100@sezf.org
SUMMARY:Fellowship Development Team
DESCRIPTION:Purpose: The SEZF Fellowship Development Team is here to build effective relationships with our members within our Zone and provide Fellowship services for our membership as needed. \nOur mission: To support the regions of the SEZF with mentorship\, training\, and digital support within the Zone and underserved communities. \nTopic: Symposium Workgroup \nJoin Zoom Meeting\nhttps://us02web.zoom.us/j/84827302538?pwd=53XjxFXbU84sbaJNElpp5rGHfecs3w.1 \nMeeting ID: 848 2730 2538\nPasscode: sezffd
URL:https://sezf.org/event/fellowship-development-team-2-2/2030-10-23/
END:VEVENT
BEGIN:VEVENT
DTSTART;TZID=America/New_York:20301127T184500
DTEND;TZID=America/New_York:20301127T194500
DTSTAMP:20260425T112324
CREATED:20260425T014907Z
LAST-MODIFIED:20260425T015407Z
UID:10000383-1922035500-1922039100@sezf.org
SUMMARY:Fellowship Development Team
DESCRIPTION:Purpose: The SEZF Fellowship Development Team is here to build effective relationships with our members within our Zone and provide Fellowship services for our membership as needed. \nOur mission: To support the regions of the SEZF with mentorship\, training\, and digital support within the Zone and underserved communities. \nTopic: Symposium Workgroup \nJoin Zoom Meeting\nhttps://us02web.zoom.us/j/84827302538?pwd=53XjxFXbU84sbaJNElpp5rGHfecs3w.1 \nMeeting ID: 848 2730 2538\nPasscode: sezffd
URL:https://sezf.org/event/fellowship-development-team-2-2/2030-11-27/
END:VEVENT
BEGIN:VEVENT
DTSTART;TZID=America/New_York:20301225T184500
DTEND;TZID=America/New_York:20301225T194500
DTSTAMP:20260425T112324
CREATED:20260425T014907Z
LAST-MODIFIED:20260425T015407Z
UID:10000384-1924454700-1924458300@sezf.org
SUMMARY:Fellowship Development Team
DESCRIPTION:Purpose: The SEZF Fellowship Development Team is here to build effective relationships with our members within our Zone and provide Fellowship services for our membership as needed. \nOur mission: To support the regions of the SEZF with mentorship\, training\, and digital support within the Zone and underserved communities. \nTopic: Symposium Workgroup \nJoin Zoom Meeting\nhttps://us02web.zoom.us/j/84827302538?pwd=53XjxFXbU84sbaJNElpp5rGHfecs3w.1 \nMeeting ID: 848 2730 2538\nPasscode: sezffd
URL:https://sezf.org/event/fellowship-development-team-2-2/2030-12-25/
END:VEVENT
BEGIN:VEVENT
DTSTART;TZID=America/New_York:20310122T184500
DTEND;TZID=America/New_York:20310122T194500
DTSTAMP:20260425T112324
CREATED:20260425T014907Z
LAST-MODIFIED:20260425T015407Z
UID:10000385-1926873900-1926877500@sezf.org
SUMMARY:Fellowship Development Team
DESCRIPTION:Purpose: The SEZF Fellowship Development Team is here to build effective relationships with our members within our Zone and provide Fellowship services for our membership as needed. \nOur mission: To support the regions of the SEZF with mentorship\, training\, and digital support within the Zone and underserved communities. \nTopic: Symposium Workgroup \nJoin Zoom Meeting\nhttps://us02web.zoom.us/j/84827302538?pwd=53XjxFXbU84sbaJNElpp5rGHfecs3w.1 \nMeeting ID: 848 2730 2538\nPasscode: sezffd
URL:https://sezf.org/event/fellowship-development-team-2-2/2031-01-22/
END:VEVENT
BEGIN:VEVENT
DTSTART;TZID=America/New_York:20310226T184500
DTEND;TZID=America/New_York:20310226T194500
DTSTAMP:20260425T112324
CREATED:20260425T014907Z
LAST-MODIFIED:20260425T015407Z
UID:10000386-1929897900-1929901500@sezf.org
SUMMARY:Fellowship Development Team
DESCRIPTION:Purpose: The SEZF Fellowship Development Team is here to build effective relationships with our members within our Zone and provide Fellowship services for our membership as needed. \nOur mission: To support the regions of the SEZF with mentorship\, training\, and digital support within the Zone and underserved communities. \nTopic: Symposium Workgroup \nJoin Zoom Meeting\nhttps://us02web.zoom.us/j/84827302538?pwd=53XjxFXbU84sbaJNElpp5rGHfecs3w.1 \nMeeting ID: 848 2730 2538\nPasscode: sezffd
URL:https://sezf.org/event/fellowship-development-team-2-2/2031-02-26/
END:VEVENT
BEGIN:VEVENT
DTSTART;TZID=America/New_York:20310326T184500
DTEND;TZID=America/New_York:20310326T194500
DTSTAMP:20260425T112324
CREATED:20260425T014907Z
LAST-MODIFIED:20260425T015407Z
UID:10000387-1932317100-1932320700@sezf.org
SUMMARY:Fellowship Development Team
DESCRIPTION:Purpose: The SEZF Fellowship Development Team is here to build effective relationships with our members within our Zone and provide Fellowship services for our membership as needed. \nOur mission: To support the regions of the SEZF with mentorship\, training\, and digital support within the Zone and underserved communities. \nTopic: Symposium Workgroup \nJoin Zoom Meeting\nhttps://us02web.zoom.us/j/84827302538?pwd=53XjxFXbU84sbaJNElpp5rGHfecs3w.1 \nMeeting ID: 848 2730 2538\nPasscode: sezffd
URL:https://sezf.org/event/fellowship-development-team-2-2/2031-03-26/
END:VEVENT
BEGIN:VEVENT
DTSTART;TZID=America/New_York:20310423T184500
DTEND;TZID=America/New_York:20310423T194500
DTSTAMP:20260425T112324
CREATED:20260425T014907Z
LAST-MODIFIED:20260425T015407Z
UID:10000388-1934736300-1934739900@sezf.org
SUMMARY:Fellowship Development Team
DESCRIPTION:Purpose: The SEZF Fellowship Development Team is here to build effective relationships with our members within our Zone and provide Fellowship services for our membership as needed. \nOur mission: To support the regions of the SEZF with mentorship\, training\, and digital support within the Zone and underserved communities. \nTopic: Symposium Workgroup \nJoin Zoom Meeting\nhttps://us02web.zoom.us/j/84827302538?pwd=53XjxFXbU84sbaJNElpp5rGHfecs3w.1 \nMeeting ID: 848 2730 2538\nPasscode: sezffd
URL:https://sezf.org/event/fellowship-development-team-2-2/2031-04-23/
END:VEVENT
END:VCALENDAR